BEGIN:VCALENDAR
VERSION:2.0
PRODID:-//jEvents 2.0 for Joomla//EN
CALSCALE:GREGORIAN
METHOD:PUBLISH
BEGIN:VTIMEZONE
TZID:Europe/Lisbon
END:VTIMEZONE
BEGIN:VEVENT
UID:270abe1a3b39ac76d8d49c1b08235bd9
CATEGORIES:Santos
SUMMARY:São Longuinho
DESCRIPTION;ENCODING=QUOTED-PRINTABLE:São Longuinho, foi um dos soldados romanos destacados para acompanharem o c
 astigo, crucificação e a morte de Jesus. A Bíblia não nos indica o nome dos
  soldados mas pela tradição pensa-se que São Longuinho tenha sido o soldado
  que perfurou o lado de Jesus com uma lança (Jo 19,34) e daí foi nomeado co
 mo Longinus, nome que significa "Uma Lança".\nFoi também São Longuinho o so
 ldado que reconheceu Jesus como o "Verdadeiro Filho de Deus", logo após a m
 orte do Mestre.\nConta-se que São Longuinho era um soldado de baixa estatur
 a que servia na alta corte de Roma antes de ser destacado para servir em Is
 rael. Servindo na corte de Roma, São Longuinho vivia nas festas dos romanos
 . Por causa da sua baixa estatura, conseguia ver tudo o que se passava por 
 baixo das mesas. Com isso São Longuinho achava vários pertences das pessoas
  que devolvia sempre aos donos. Daí surgiu a sua fama de bom soldado e de e
 ncontrar coisas perdidas.\nO Evangelho de São João, testemunha ocular da mo
 rte de Jesus, diz que quando o soldado perfurou o lado do Senhor, dali saír
 am sangue e água. (Jo 19,34). A Tradição diz que o sangue que saiu do lado 
 de Cristo, respingou em São Longuinho e ele ficou curado de um problema que
  tinha nos olhos. E o sangue do lado de Cristo curou não só os olhos físico
 s de São Longuinho, como também, os olhos de sua alma, pois a ele são atrib
 uídas as palavras: "Verdadeiramente este homem era Filho de Deus".\nA parti
 r de então, a vida de São Longuinho mudou. Tocado pela graça de Deus, São L
 onguinho converteu-se, passou a acreditar em Jesus, e abandonou o exército 
 romano. São Longuinho é uma prova do poder do amor e da misericórdia de Deu
 s. Jesus curou a vida de um soldado que o matava.\nApós abandonar o exercit
 o romano por causa de sua conversão, São Longuinho fugiu para Cesárea e, de
 pois para a Capadócia, atual Turquia. Foi descoberto pelo Governador da Cap
 adócia e denunciado a Pôncio Pilatos. No processo, foi acusado de desertor 
 e condenado à pena de morte. Se renunciasse à sua fé em Jesus Cristo São Lo
 nguinho seria perdoado. Como São Longuinho não renunciou foi torturado, ten
 do os seus dentes sido arrancados e a sua língua cortada. Depois, foi decap
 itado. Foi canonizado pelo Papa Silvestre II no ano 999.\n \nSão Longuinho 
 rogai por nós!\n
DTSTAMP:20260424T020049Z
DTSTART;TZID=Europe/Lisbon;VALUE=DATE:20260315
DTEND;TZID=Europe/Lisbon;VALUE=DATE:20260316
SEQUENCE:0
TRANSP:OPAQUE
END:VEVENT
END:VCALENDAR