BEGIN:VCALENDAR
VERSION:2.0
PRODID:-//jEvents 2.0 for Joomla//EN
CALSCALE:GREGORIAN
METHOD:PUBLISH
BEGIN:VTIMEZONE
TZID:Europe/Lisbon
BEGIN:STANDARD
DTSTART:20180314T000000
RDATE:20180325T020000
TZOFFSETFROM:+0100
TZOFFSETTO:+0000
TZNAME:Europe/Lisbon WET
END:STANDARD
BEGIN:STANDARD
DTSTART:20181028T010000
RDATE:20190331T020000
TZOFFSETFROM:+0100
TZOFFSETTO:+0000
TZNAME:Europe/Lisbon WET
END:STANDARD
BEGIN:STANDARD
DTSTART:20191027T010000
RDATE:20200329T020000
TZOFFSETFROM:+0100
TZOFFSETTO:+0000
TZNAME:Europe/Lisbon WET
END:STANDARD
BEGIN:STANDARD
DTSTART:20201025T010000
RDATE:20210328T020000
TZOFFSETFROM:+0100
TZOFFSETTO:+0000
TZNAME:Europe/Lisbon WET
END:STANDARD
BEGIN:DAYLIGHT
DTSTART:20180325T020000
RDATE:20181028T010000
TZOFFSETFROM:+0000
TZOFFSETTO:+0100
TZNAME:Europe/Lisbon WEST
END:DAYLIGHT
BEGIN:DAYLIGHT
DTSTART:20190331T020000
RDATE:20191027T010000
TZOFFSETFROM:+0000
TZOFFSETTO:+0100
TZNAME:Europe/Lisbon WEST
END:DAYLIGHT
BEGIN:DAYLIGHT
DTSTART:20200329T020000
RDATE:20201025T010000
TZOFFSETFROM:+0000
TZOFFSETTO:+0100
TZNAME:Europe/Lisbon WEST
END:DAYLIGHT
END:VTIMEZONE
BEGIN:VEVENT
UID:10b51ae89d79a1542a210fbbcc19019f
CATEGORIES:Santos
SUMMARY:Santa Matilde
DESCRIPTION;ENCODING=QUOTED-PRINTABLE:Santa Matilde nasceu em 895 em Enger, Vestfalia (atual Alemanha) e faleceu 
 a 14 de março de 968 em Quedlimburgo (Alemanha). Era filha do Conde Teodori
 co de Ringelheim também denominado Dietrich da Vestfália e de Reinilda da F
 rísia também denominada Reinhild da Dinamarca.\nSanta Matilde foi educada p
 ela avó, que também se chamava Matilde e era abadessa de um mosteiro de mon
 jas beneditinas em Herford, Vestfália. Por causa dessa educação, Santa Mati
 lde aprendeu a ler e a escrever, para além de ter estudado filosofia e teol
 ogia. Santa Matilde casou-se com apenas catorze anos, com um duque da Saxón
 ia chamado Henrique que viria a tornar-se rei da Alemanha.\nCom o rei Henri
 que I, Santa Matilde viveu um casamento feliz, que durou vinte anos. \nO re
 inado de Henrique I foi justo e bom para o povo. Segundo os livros, Santa M
 atilde teve grande influência no reinado do marido, lutando pela justiça e 
 pela bondade, sempre nos bastidores do governo. Santa Matilde mostrou-se ch
 eia de bondade e portadora de grande generosidade para com os súditos, espe
 cialmente os pobres e doentes. Em tempo de paz, Santa Matilde passou a assi
 stir à população, erguendo conventos, igrejas, hospitais e escolas.\nO rei,
  por sua vez, fazia da Alemanha o país líder da Europa. Ele salvou seu país
  da invasão dos húngaros. Depois, regularizou a situação da Alemanha com a 
 França e a Itália. Em seguida, passou a exercer domínio sobre os dinamarque
 ses e os eslavos. O reinado de Henrique I ficou bastante fortalecido. Contu
 do com a morte do rei Henrique I a paz chegou ao fim.\nO rei tinha indicado
  como seu sucessor o seu filho mais velho Otão. Porém, um filho mais novo c
 hamado Henrique quis o trono e os exércitos aliados de cada um desses prínc
 ipes começaram a guerrear, para grande tristeza de Santa Matilde. Por fim O
 tão venceu e assumiu o trono.\nDepois de tudo isso, os filhos voltaram-se c
 ontra a própria mãe. Alegaram que Santa Matilde esbanjava os bens do reino 
 com os pobres e com a Igreja. Por isso, retiraram-lhe toda a fortuna ordena
 ram que Santa Matilde exilada.\nSanta Matilde foi viver no Mosteiro de Enge
 rm onde se dedicou à oração e aos sacrifícios, pedindo incessantemente pela
  conversão dos filhos. Muitos anos depois, os irmãos Otão e Henrique caíram
  em si e arrependeram-se. Assim procuraram Santa Matilde e pedindo-lhe perd
 ão, receberam-na no reino e devolveram-lhe toda a sua fortuna. Com autorida
 de sobre os seus bens novamente, Santa Matilde distribuiu tudo aos pobres, 
 salvando famílias inteiras da miséria e da perdição.\nDepois disso, voltou 
 para a vida religiosa no mosteiro. Lá, recebeu o dom da profecia e ajudou a
  muitos com suas orações, escuta e aconselhamento.\nSanta Matilde faleceu a
  14 de março de 968.\nSanta Matilde nunca foi canonizada formalmente mas é 
 venerada como santa desde o momento da sua morte.\n \nSanta Matilde, rogai 
 por nós!\n
DTSTAMP:20260420T031021Z
DTSTART;TZID=Europe/Lisbon;VALUE=DATE:20190315
DTEND;TZID=Europe/Lisbon;VALUE=DATE:20190316
SEQUENCE:0
TRANSP:OPAQUE
END:VEVENT
END:VCALENDAR