BEGIN:VCALENDAR
VERSION:2.0
PRODID:-//jEvents 2.0 for Joomla//EN
CALSCALE:GREGORIAN
METHOD:PUBLISH
BEGIN:VTIMEZONE
TZID:Europe/Lisbon
END:VTIMEZONE
BEGIN:VEVENT
UID:acd22e01876a61858b2f1468be604f14
CATEGORIES:Santos
SUMMARY:São Clemente Hofbauer
DESCRIPTION;ENCODING=QUOTED-PRINTABLE:\n\nSão Clemente Hofbauer nasceu a 25 de dezembro de 1751 em Tasswitz, Áust
 ria e faleceu a 15 de março de 1820 em Viena, Áustria. Era um dos doze filh
 os de Paulo Hofbauer e de Maria Steer. Foi batizado com o nome de João no d
 ia seguinte ao do seu nascimento. Ficou órfão de pai aos sete anos. Consta 
 nas anotações de São Clemente Hofbauer que no dia da morte do seu pai, a su
 a mãe Maria Steer lhe mostrou um crucifixo e disse-lhe: &ldquo;A partir de 
 hoje, este é o teu Pai&rdquo;. São Clemente Hofbauer terá decidido então to
 rnar-se padre e missionário.\nContudo as condições económicas em que a famí
 lia vivia dificultaram a realização do sonho de São Clemente Hofbauer. Aos 
 15 anos foi morar na cidade de Znaim, onde aprendeu o ofício de padeiro. Tr
 ês ano depois, empregou-se como servente no mosteiro dos premonstratenses d
 e Burk, onde desempenhou o ofício de padeiro. A vocação do jovem foi notada
  pelo abade, que o deixou estudar latim. Quando o abade morreu, foi viver c
 omo eremita e mudou o nome para Clemente Maria.\nEntretanto de volta para V
 iena, e graças à generosidade de três senhoras piedosas e ricas, pode estud
 ar na universidade. Em 1784 viajou novamente para Roma junto com um estudan
 te e amigo Tadeu. Os dois peregrinos foram parar entre os redentoristas, re
 centemente estabelecidos em São Julião, no Monte Esquilino, onde eles foram
  recebidos como candidatos.\nDepois de um noviciado breve, fizeram a profis
 são no dia 19 de março de 1785 e, dez dias depois, em 29 de março de 1785, 
 foram ordenados padres em Alatri. Junto com o Padre Tadeu, São Clemente Hof
 bauer voltou a Viena onde quis estabelecer a Congregação.\nMas isto não era
  possível devido às leis josefinistas (teoria política onde a Igreja só ter
 ia domínio moral sobre os fiéis, e todas as outras questões - incluindo a a
 dministração da Igreja - deveriam ficar submetidas às leis e autoridades do
  Estado). Assim São Clemente Hofbauer foi para Varsóvia onde se encarregou 
 da igreja alemã de São Beno. São Clemente Hofbauer começou uma intensa ativ
 idade pastoral, e lá atraiu numerosos candidatos desejosos de se unirem a e
 le. A igreja de São Beno tornou-se sede de uma missão contínua com um progr
 ama diário de pregações, instruções, confissões e devoções. São Clemente Ho
 fbauer fundou, também, um orfanato para os meninos e meninas. São Clemente 
 Hofbauer continuou esta atividade até 1808, quando Napoleão Bonaparte fecho
 u a igreja e dispersou a comunidade.\nSão Clemente Hofbauer estabeleceu-se 
 novamente em Viena e lá permaneceu até à sua morte. Como capelão do convent
 o e da igreja das Ursulinas, teve uma influência extraordinária na cidade i
 nteira. Aconselhou e encorajou alguns líderes do novo movimento romântico e
  outros que trabalhavam para a renovação católica nos países de idioma alem
 ão. Foi-lhe conferido o título e a responsabilidade de Vigário Geral da con
 gregação redentorista fora da Itália, principalmente para o sul da Alemanha
  e Suíça. São Clemente Hofbauer foi a base da renovação da vida redentorist
 a na Europa do Norte.\nSão Clemente faleceu a 15 de março de 1820 em Viena.
 \nFoi canonizado em 1909 pelo Papa Pio X.\nÉ padroeiro da cidade de Viena e
  dos padeiros.\n\n\n\n \n\n\nSão Clemente Hofbauer, rogai por nós!\n
DTSTAMP:20260424T102731Z
DTSTART;TZID=Europe/Lisbon;VALUE=DATE:20280315
DTEND;TZID=Europe/Lisbon;VALUE=DATE:20280316
SEQUENCE:0
TRANSP:OPAQUE
END:VEVENT
END:VCALENDAR