BEGIN:VCALENDAR
VERSION:2.0
PRODID:-//jEvents 2.0 for Joomla//EN
CALSCALE:GREGORIAN
METHOD:PUBLISH
BEGIN:VTIMEZONE
TZID:Europe/Lisbon
END:VTIMEZONE
BEGIN:VEVENT
UID:b58c40541787cde8b92ece7f10d0f35a
CATEGORIES:Santos
SUMMARY:António de Categeró
DESCRIPTION;ENCODING=QUOTED-PRINTABLE:António de Categerótambém é conhecido como António de Cartago, António de N
 oto ou António, Etíope nasceu em data desconhecida na cidade de Barca, regi
 ão Cirenaica (atual Líbia - África) e faleceu a 14 de março de 1549 na Sicí
 lia, Itália. Santo António de Categeró não é reconhecido como santo pelo Va
 ticano, no entanto é mantido no altar pela fé popular.\nOs seus pais profes
 savam a fé no Islamismo, eram fiéis seguidores de Maomé, muçulmanos autênti
 cos e piedosos.\nAinda muito jovem, talvez pelo inicio da adolescência, Ant
 ónio foi capturado de sua aldeia e vendido como escravo. O navio que transp
 ortava o jovem António, aportou na ilha da Sicília, hoje sul da Itália. No 
 mercado de escravos o que contava era a lei da oferta e da procura. António
  foi negociado pelo valor equivalente ao de dois cavalos a um camponês cham
 ado João Landavula, da cidade de Noto. O camponês confiou a António de Cate
 geró o rebanho de cabras e ovelhas.\nTodos da casa de João Landavulo nutria
 m carinho e afeição pelo jovem António, que em retribuição se mostrava solí
 cito e dedicado para com todos. As crianças adoravam brincar com o jovem An
 tónio e carinhosamente o chamavam de Tio António. Ele divagava entre as lem
 branças de sua família e de sua terra. \nO jovem António de Categeró apreci
 ava a forma como seus patrões professavam a fé, e sentindo-se atraído pediu
  para ser instruído na religião católica. Tão logo ouviu falar de Jesus e d
 os seus ensinamentos, António encantou-se e desejou o batismo Cristão. Os s
 eus patrões foram os seus catequistas e padrinhos.\nAntónio de Categeró tor
 nou-se um Cristão fervoroso e piedoso, o seu tempo era preenchido pela cont
 emplação e meditação na vida, paixão, morte e ressurreição de nosso Senhor 
 Jesus Cristo. António era zeloso com a salvação da sua alma, era exigente c
 onsigo e não admitia nem um pequeno deslize de conduta. Era na confissão qu
 e encontrava forças para superar as limitações e vencer as fraquezas.\nComo
  Pastor, António de Categeró era dedicado ao seu rebanho; as cabras e as ov
 elhas eram a sua alegria e satisfação. António de Categeró distribuía leite
  e queijo aos pobres de Noto, para além de roupas e sapatos que arrecadava 
 nos arredores, para os mais necessitados.\nO patrão de António de Categeró 
 achou um exagero da sua parte e proibiu António de fazer doações aos pobres
 . António de Categeró prontamente obedeceu.\nPassado algum tempo, as cabras
  e as ovelhas começaram a escassear a produção de leite, o patrão ficou ass
 ustado com o prejuízo e pensando melhor, liberou a generosidade de António 
 de Categeró. Os pobres teriam novamente leite e queijo. A produção voltou a
  crescer, e dessa vez ainda mais. O patrão ficou radiante de felicidade.\n 
 António de Categeró era procurado por todos: doentes em busca de alivio; po
 bres em busca do pão; desanimados que o procuravam em busca de uma palavra 
 de consolo, etc.\n Já com certa idade António de Categeró foi liberto da es
 cravidão. Tornara-se livre para servir unicamente o seu Senhor. António de 
 Categeró dedicou-se aos doentes dos hospitais, aos marginalizados e esqueci
 dos da sociedade. Encantou-se pela vida e obra de S. Francisco de Assis (ht
 tp://www.paroquia-almancil.pt/utilidades/vida-dos-santos/icalrepeat.detail/
 2018/10/04/48947/-/s%C3%A3o-francisco-de-assis.html).\n Com toda a humildad
 e António de Categeró pediu e foi admitido na Ordem Terceira de São Francis
 co (O.F.S.). Foi como terceiro Franciscano que completou sua missão e obra.
  \nNo final de sua vida retirou-se para um eremitério e lá dedicou-se a ora
 ção e contemplação até falecer no dia 14 de março de 1550 em Noto na Sicíli
 a.\n
DTSTAMP:20260424T020141Z
DTSTART;TZID=Europe/Lisbon;VALUE=DATE:20260314
DTEND;TZID=Europe/Lisbon;VALUE=DATE:20260315
SEQUENCE:0
TRANSP:OPAQUE
END:VEVENT
END:VCALENDAR