BEGIN:VCALENDAR
VERSION:2.0
PRODID:-//jEvents 2.0 for Joomla//EN
CALSCALE:GREGORIAN
METHOD:PUBLISH
BEGIN:VTIMEZONE
TZID:Europe/Lisbon
END:VTIMEZONE
BEGIN:VEVENT
UID:00de89c1359526c1ff1438c617e09c0d
CATEGORIES:Santos
SUMMARY:Santa Perpétua e Santa Felicidade
DESCRIPTION;ENCODING=QUOTED-PRINTABLE:Hoje é dia de Santa Perpétua e Santa Felicidade, mártires. O que sabemos so
 bre as origens das duas é pouco, porém digno de nota.  Santa Perpétua é tam
 bém conhecida como Vivian Perpétua nasceu no seio duma família nobre pagã e
 m Cartago (Norte de África). Santa Perpétua converteu-se ao cristianismo. E
 ra esposa e mãe dum bebé de poucos meses. Santa Felicidade era escrava de S
 anta Perpétua e também de Cartago.\nNo ano de 293 o imperador Severo, també
 m de origem africana, havia decretado a pena de morte para os cristãos. Ass
 im as duas mulheres foram presas apenas por serem cristãs. Santa Perpétua t
 inha 22 anos quando foi presa com outros catecúmenos como Saturnino, Saturo
  e Secundo, e dois escravos Revocato e Felicidade. Santa Felicidade, escrav
 a de Santa Perpétua, teria por volta dos 20 anos e encontrava-se grávida de
  8 meses.\nDurante o período em que estiveram encarceradas, Santa Perpétua 
 a pedido dos outros mártires, escrevia num diário tudo o que passou naquele
  local.\nSanta Perpétua era muito firme na sua fé, porém como o pai de Perp
 étua era um homem influente em Roma conseguiu que a mesma fosse libertada c
 aso negasse Cristo. O pai de Santa Perpétua foi visitá-la à prisão para ten
 tar que a filha abjurasse a sua fé.\nNessa visita Santa Perpétua terá dito 
 ao pai: &ldquo;Pai, como se chama esta vasilha que há aí na frente?&rdquo; 
 "Uma bandeja", respondeu o pai. &ldquo;Pois bem, essa vasilha deve ser cham
 ada de bandeja, e não de pote ou colher, porque é uma bandeja. E eu que sou
  cristã, não posso me chamar pagã, nem de nenhuma outra religião, porque so
 u cristã e o quero ser para sempre".\nNeste meio tempo nasceu a filha de Sa
 nta Felicidade, que seria entregue a cristãos que não foram presos pela per
 seguição do imperador pagão, e a criança seria criada são e salvo, porém, a
  sua mãe não partilhava do mesmo destino.\nElas que ainda não tinham sido b
 atizadas fizeram questão de receber o sacramento na prisão, para reafirmar 
 suas posições de cristãs e, em nenhum momento sequer, pensaram em salvar as
  vidas negando o cristianismo. \nSegundo os relatos oficiais da época, que 
 completam o diário de Santa Perpétua, os cristãos homens foram martirizados
  primeiro, tendo sido jogados aos leopardos famintos. Estes os despedaçaram
 . \nSanta Perpétua e Santa Felicidade foram jogadas a touros selvagens. San
 ta Perpétua viu a sua amiga ser atingida pelos animais e ainda conseguiu am
 parar a sua irmã de fé em seus braços e recompor a sua roupa estraçalhada, 
 numa demonstração de respeito, dignidade e amor. \nOs pagãos que assistiam 
 ao &ldquo;espetáculo&rdquo; emocionaram-se por um curto espaço de tempo e p
 ediram que as santas fossem tiradas pela porta onde iam os gladiadores vito
 riosos. Porém, logo depois começaram a gritar pedindo que as trouxessem de 
 volta e as decapitassem diante de todos. Ao saber desta notícia, as duas jo
 vens santas abraçaram-se emocionadas, e voltaram à praça. Santa Felicidade 
 teve a cabeça cortada com uma machadada, mas o carrasco que tinha que matar
  Santa Perpétua estava muito nervoso e errou o golpe. Ela deu um grito de d
 or, mas estendeu bem a cabeça sobre o cepo e indicou ao carrasco com a mão,
  o lugar preciso de seu pescoço onde devia dar a machadada. Assim esta mulh
 er valorosa até o último momento demonstrou que se morria mártir era por su
 a própria vontade e com toda generosidade.\nSanta Perpétua e Santa Felicida
 de foram decapitadas no dia 7 de março de 203.\n \nSanta Perpétua e Santa F
 elicidade, rogai por nós!\n
DTSTAMP:20260422T231612Z
DTSTART;TZID=Europe/Lisbon;VALUE=DATE:20260307
DTEND;TZID=Europe/Lisbon;VALUE=DATE:20260308
SEQUENCE:0
TRANSP:OPAQUE
END:VEVENT
END:VCALENDAR