BEGIN:VCALENDAR
VERSION:2.0
PRODID:-//jEvents 2.0 for Joomla//EN
CALSCALE:GREGORIAN
METHOD:PUBLISH
BEGIN:VTIMEZONE
TZID:Europe/Lisbon
END:VTIMEZONE
BEGIN:VEVENT
UID:a53ef59f007ea331ccfa80137e7cf379
CATEGORIES:Santos
SUMMARY:Chrodegang de Metz
DESCRIPTION;ENCODING=QUOTED-PRINTABLE:Chrodegang de Metz, nasceu por volta do ano 712 na diocese de Liège (Bélgic
 a) e morreu a 6 de março de 766 em Metz (França).\nÉ conhecido também como 
 Godegrand, Gundigran, Ratgang, Rodigang, Sirigang. Ele é filho de Sigramm e
  Landrade, o último pertencente à família dos Robertians. \nChrodegang de M
 etz é de origem aristocrática: ele seria o filho de Landrade de Hesbaye.\nE
 studou na Abadia de Saint-Truiden e mais tarde exerce o cargo de notário no
  tribunal de Charles Martel. Em 737 tornou-se chanceler de Charles Martel (
 Carlos Martel).\nChrodegang de Metz continuou a sua carreira na corte de Pe
 pino o Breve (filho do Rei Charles Martel).\nChrodegang de Metz foi sagrado
  bispo de Metz em 1 de outubro de 742, contribuindo para o surgimento de mo
 steiros na sua diocese. Chrodegang de Metz transformou o mosteiro de Saint-
 Hilaire num mosteiro beneditino onde fez depositar uma relíquia de São Nabo
 r. Fundou a abadia de Gorze (França), provavelmente entre 747 e 757, que co
 nfia em 759 ao seu irmão Gundeland. Em 766, Chrodegang de Metz trouxe de Ro
 ma as relíquias de Saint Gorgon e depositou-as em Gorze. \nChrodegang de Me
 tz participou da criação da Abadia Lauresheim, fundada na diocese de Worms 
 (Alemanha) por um de seus primos, Cancor de Hesbaye e a sua mãe.\nEm sua ig
 reja da catedral, Chrodegang de Metz formou uma comunidade de cónegos acost
 umados a viver num claustro, de acordo com uma regra parcialmente inspirada
  pela regra de São Bento, chamada Regula vitae communis, mais conhecida com
 o Regula canonicorum.\nEm 753, foi escolhido pelo Rei Pepino, o Breve e a a
 ssembleia geral dos estados do reino para liderar o Papa Estêvão II durante
  sua viagem à Áustria.\nOs lombardos invadiram os Estados papais, e Chrodeg
 ang de Metz organizou a fuga do Papa para Saint-Denis. O último, satisfeito
  com seus serviços, concedeu-lhe o pálio e o título de arcebispo em sucessã
 o de Bonifácio de Mogúncia, que morreu em 754, o que o tornou a cabeça da I
 greja Franca.\nProvavelmente, por ocasião de sua viagem a Roma, Chrodegang 
 de Metz descobriu o canto romano antigo, ele elabora uma síntese desta canç
 ão com a música galega. O resultado é o canto de Messino, o antepassado do 
 canto gregoriano. Ele criou o Scola cantorum por volta de 754.\nChrodegang 
 de Metz convence o Rei Pepino o breve para que o Concílio de Quierzy-sur-Oi
 se adote a liturgia romana. Em 757, participou do Concílio de Compiègne e e
 m 765 Chrodegang de Metz presidiu o Concílio de Attigny: uma assembleia ger
 al do alto clero franco, onde são encontrados vinte e sete arcebispos e bis
 pos e dezassete abades.\nChrodegang de Metz morreu em 766 pouco depois do C
 oncílio de Attigny, após ter governado a diocese de Metz por vinte e três a
 nos.\nEm 817, o Concílio de Aix-la-Chapelle esclareceu a regra de Chrodegan
 g de Metz, mas sendo menos rígido quanto à pobreza.\n
DTSTAMP:20260423T081711Z
DTSTART;TZID=Europe/Lisbon;VALUE=DATE:20270306
DTEND;TZID=Europe/Lisbon;VALUE=DATE:20270307
SEQUENCE:0
TRANSP:OPAQUE
END:VEVENT
END:VCALENDAR