BEGIN:VCALENDAR
VERSION:2.0
PRODID:-//jEvents 2.0 for Joomla//EN
CALSCALE:GREGORIAN
METHOD:PUBLISH
BEGIN:VTIMEZONE
TZID:Europe/Lisbon
BEGIN:STANDARD
DTSTART:20170228T000000
RDATE:20170326T020000
TZOFFSETFROM:+0100
TZOFFSETTO:+0000
TZNAME:Europe/Lisbon WET
END:STANDARD
BEGIN:STANDARD
DTSTART:20171029T010000
RDATE:20180325T020000
TZOFFSETFROM:+0100
TZOFFSETTO:+0000
TZNAME:Europe/Lisbon WET
END:STANDARD
BEGIN:STANDARD
DTSTART:20181028T010000
RDATE:20190331T020000
TZOFFSETFROM:+0100
TZOFFSETTO:+0000
TZNAME:Europe/Lisbon WET
END:STANDARD
BEGIN:STANDARD
DTSTART:20191027T010000
RDATE:20200329T020000
TZOFFSETFROM:+0100
TZOFFSETTO:+0000
TZNAME:Europe/Lisbon WET
END:STANDARD
BEGIN:STANDARD
DTSTART:20201025T010000
RDATE:20210328T020000
TZOFFSETFROM:+0100
TZOFFSETTO:+0000
TZNAME:Europe/Lisbon WET
END:STANDARD
BEGIN:DAYLIGHT
DTSTART:20170326T020000
RDATE:20171029T010000
TZOFFSETFROM:+0000
TZOFFSETTO:+0100
TZNAME:Europe/Lisbon WEST
END:DAYLIGHT
BEGIN:DAYLIGHT
DTSTART:20180325T020000
RDATE:20181028T010000
TZOFFSETFROM:+0000
TZOFFSETTO:+0100
TZNAME:Europe/Lisbon WEST
END:DAYLIGHT
BEGIN:DAYLIGHT
DTSTART:20190331T020000
RDATE:20191027T010000
TZOFFSETFROM:+0000
TZOFFSETTO:+0100
TZNAME:Europe/Lisbon WEST
END:DAYLIGHT
BEGIN:DAYLIGHT
DTSTART:20200329T020000
RDATE:20201025T010000
TZOFFSETFROM:+0000
TZOFFSETTO:+0100
TZNAME:Europe/Lisbon WEST
END:DAYLIGHT
END:VTIMEZONE
BEGIN:VEVENT
UID:2b31d0a8021e3e5c0b7b322bc871e659
CATEGORIES:Santos
SUMMARY:São Rosendo
DESCRIPTION;ENCODING=QUOTED-PRINTABLE:São Rosendo também é conhecido como São Rosendo de Celanova, Rudesindus, Ro
 sendo Guterres. Nasceu a 26 de novembro de 907 em São Miguel do Couto, Sant
 o Tirso (Portugal) e faleceu a 1 de março de 977 em Celanova (Espanha).\nEr
 a filho do Conde Guterre Mendes e Ildaura Eriz, ambos muito religiosos. Da 
 sua infância e adolescência apenas se sabe que S. Rosendo a determinada alt
 ura terá ido viver para Mondoñedo (Espanha), onde o seu tio paterno, Savari
 co, era bispo. Presume-se que São Rosendo tenha seguido os estudos num most
 eiro beneditino.\nEm 925, apenas com dezoito anos, São Rosendo sucede ao se
 u tio Savarico, bispo de Mondoñedo, sendo muito bem recebido. São Rosendo e
 sforçou-se por restabelecer e consolidar a paz, reconstruindo, ainda que aj
 udado pelos pais, os mosteiros e igrejas que tinham sofrido com a desordem.
  Serenou e conquistou os abades de toda a Galiza, que formavam a nobreza ec
 lesiástica; e atraiu a nobreza civil, a que estava muito ligado pelo sangue
 , uma vez que D. Rosendo era parente dos reis de Leão. Libertou escravos tr
 abalhando para que os outros senhores fizessem o mesmo.\nFoi depois escolhi
 do bispo de Dume, nos arredores de Braga. Veio a Portugal visitar o mosteir
 o em que era abadessa Santa Senhorinha, sua parente. Tornou-se modelo de fé
 , humildade, confiança em Deus.\nDesejando apresentar uma comunidade-modelo
 , São Rosendo conseguiu regressar e edificar um grande mosteiro, depois de 
 um irmão e uma prima lhe terem cedido a quinta de Villar, na diocese de Ore
 nse. Obteve doações de ricos e pobres, sobretudo da mãe. Em 942, ao fim de 
 oito anos de construção, inaugurou o mosteiro beneditino de San Salvador de
  Celanova: recebeu as felicitações de muitos (11 bispos da Galiza e de Leão
 ; 24 condes; abades, presbíteros, diáconos e monges; e ouviu os aplausos da
  multidão). O monge Franquila foi nomeado abade do mosteiro de Celanova e S
 ão Rosendo voltou a Mondoñedo a fim de extinguir rancores, sufocar conspira
 ções, acalmar avarezas e pacificar famílias.\nRenunciou ao bispado em 944 e
  retirou-se para o mosteiro que havia fundado.\nEm 970 foi chamado a admini
 strar a diocese de Compostela, quando a região era assolada por violentas i
 nvasões normandas.\nFaleceu a 1 de março de 977 no mosteiro de Celanova.\nF
 oi canonizado no século XII.\nSão Rosendo, rogai por nós!\n
DTSTAMP:20260420T010311Z
DTSTART;TZID=Europe/Lisbon;VALUE=DATE:20180301
DTEND;TZID=Europe/Lisbon;VALUE=DATE:20180302
SEQUENCE:0
TRANSP:OPAQUE
END:VEVENT
END:VCALENDAR