BEGIN:VCALENDAR
VERSION:2.0
PRODID:-//jEvents 2.0 for Joomla//EN
CALSCALE:GREGORIAN
METHOD:PUBLISH
BEGIN:VEVENT
UID:949e9a17ccd4ceb5abe457480554ad78
CATEGORIES:Santos
SUMMARY:São Bento
DESCRIPTION;ENCODING=QUOTED-PRINTABLE:
DTSTAMP:20260425T015253Z
DTSTART;TZID=Europe/Lisbon;VALUE=DATE:20490711
DTEND;TZID=Europe/Lisbon;VALUE=DATE:20490712
SEQUENCE:0
TRANSP:OPAQUE
END:VEVENT
END:VCALENDAR