BEGIN:VCALENDAR
VERSION:2.0
PRODID:-//jEvents 2.0 for Joomla//EN
CALSCALE:GREGORIAN
METHOD:PUBLISH
BEGIN:VTIMEZONE
TZID:Europe/Lisbon
BEGIN:STANDARD
DTSTART:20201025T010000
RDATE:20210328T020000
TZOFFSETFROM:+0100
TZOFFSETTO:+0000
TZNAME:Europe/Lisbon WET
END:STANDARD
BEGIN:DAYLIGHT
DTSTART:20200814T000000
RDATE:20201025T010000
TZOFFSETFROM:+0000
TZOFFSETTO:+0100
TZNAME:Europe/Lisbon WEST
END:DAYLIGHT
END:VTIMEZONE
BEGIN:VEVENT
UID:c47ac18a319b2b397f7002cf861c169c
CATEGORIES:Santos
SUMMARY:Nossa Senhora dos Navegantes
DESCRIPTION;ENCODING=QUOTED-PRINTABLE:Nossa Senhora dos Navegantes é também conhecida como Nossa Senhora da Boa V
 iagem e Nossa Senhora da Boa Esperança.\nNossa Senhora dos Navegantes é ass
 ociada ao mar e à proteção dos marinheiros pela Santa Mãe de Deus, principa
 lmente pelas comunidades piscatórias.\nA fé e devoção a Nossa Senhora dos N
 avegantes têm início no século XV, com a navegação dos europeus, especialme
 nte dos portugueses. Ao saírem para o mar, as pessoas pediam proteção a Nos
 sa Senhora para retornarem aos seus lares, sãs e salvas. Maria era vista co
 mo protetora das tempestades e demais perigos que o mar e os rios ofereciam
 .\nAinda hoje, os homens do mar têm grande devoção a Nossa Senhora dos Nave
 gantes.\nO título de Nossa Senhora da Boa Viagem é normalmente invocado por
  aqueles que viajam por terra ou ar.\nConfiemos todos aqueles que viajam a 
 Nossa Senhora da Boa Viagem.\n
DTSTAMP:20260421T194100Z
DTSTART;TZID=Europe/Lisbon;VALUE=DATE:20210815
DTEND;TZID=Europe/Lisbon;VALUE=DATE:20210816
SEQUENCE:0
TRANSP:OPAQUE
END:VEVENT
END:VCALENDAR