BEGIN:VCALENDAR
VERSION:2.0
PRODID:-//jEvents 2.0 for Joomla//EN
CALSCALE:GREGORIAN
METHOD:PUBLISH
BEGIN:VTIMEZONE
TZID:Europe/Lisbon
BEGIN:STANDARD
DTSTART:20180227T000000
RDATE:20180325T020000
TZOFFSETFROM:+0100
TZOFFSETTO:+0000
TZNAME:Europe/Lisbon WET
END:STANDARD
BEGIN:STANDARD
DTSTART:20181028T010000
RDATE:20190331T020000
TZOFFSETFROM:+0100
TZOFFSETTO:+0000
TZNAME:Europe/Lisbon WET
END:STANDARD
BEGIN:STANDARD
DTSTART:20191027T010000
RDATE:20200329T020000
TZOFFSETFROM:+0100
TZOFFSETTO:+0000
TZNAME:Europe/Lisbon WET
END:STANDARD
BEGIN:STANDARD
DTSTART:20201025T010000
RDATE:20210328T020000
TZOFFSETFROM:+0100
TZOFFSETTO:+0000
TZNAME:Europe/Lisbon WET
END:STANDARD
BEGIN:DAYLIGHT
DTSTART:20180325T020000
RDATE:20181028T010000
TZOFFSETFROM:+0000
TZOFFSETTO:+0100
TZNAME:Europe/Lisbon WEST
END:DAYLIGHT
BEGIN:DAYLIGHT
DTSTART:20190331T020000
RDATE:20191027T010000
TZOFFSETFROM:+0000
TZOFFSETTO:+0100
TZNAME:Europe/Lisbon WEST
END:DAYLIGHT
BEGIN:DAYLIGHT
DTSTART:20200329T020000
RDATE:20201025T010000
TZOFFSETFROM:+0000
TZOFFSETTO:+0100
TZNAME:Europe/Lisbon WEST
END:DAYLIGHT
END:VTIMEZONE
BEGIN:VEVENT
UID:8439447b7ffd3ac2849607cb435f7b75
CATEGORIES:Santos
SUMMARY:Osvaldo de Worcester
DESCRIPTION;ENCODING=QUOTED-PRINTABLE:Osvaldo de Worcester nasceu no ano 925 na Dinamarca e faleceu a 29 de fever
 eiro de 992 em Worcester (Inglaterra).\nNascido numa família de origem dina
 marquesa, Osvaldo foi criado por seu tio Oto, o Arcebispo de Cantuária. Osv
 aldo de Worcester era também parente de Osil (ou Oskyll), arcebispo de York
 . \nEducado sob os cuidados de seu tio Oto, Osvaldo de Worcester recebeu as
  santas ordens e tomou-se decano do cabido de Winchester. A vida levada pel
 o clero secular não lhe agradava de modo nenhum e alimentava o desejo de in
 gressar numa abadia beneditina. Em 950 o seu tio Oto, envia Osvaldo para a 
 Abadia de Fleury, em França onde Osvaldo de Worcester toma o hábito monásti
 co.\nNo leito de morte, o seu tio Oto fez saber a Osvaldo que desejava tê-l
 o junto a si nos últimos momentos; pedido a que o jovem monge acedeu. Contu
 do apenas desembarcado em Douvres, Osvaldo soube que o arcebispo de Cantuár
 ia (Oto) tinha acabado de falecer. Assim foi, a York ter com o seu outro pa
 rente, que o acolheu com bondade e convenceu a acompanhá-lo numa viagem a R
 oma. Na volta dessa viagem, Osvaldo ficou em Fleury-sur-Loire (onde havia t
 omado o hábito beneditino), e com ele Germano, jovem que se tomara seu amig
 o durante a viagem. Mas Osil, desejando fazer certas reformas na sua dioces
 e, chamou Osvaldo para junto de si, a fim de tomar parte ativa na administr
 ação diocesana. Nomeado bispo de Worcester, Osvaldo mostrou-se ativo, justo
 , hospitaleiro, generoso para com os pobres; tomou-se assim muito amado pel
 os seus diocesanos. Em comum entendimento com Dunstan, arcebispo de Cantuár
 ia &ndash; que influenciara em sua nomeação episcopal &ndash; e Ethelwold, 
 bispo de Winchester, restabeleceu a disciplina monástica, procedendo sempre
  com grande doçura. Osvaldo de Worcester foi nomeado arcebispo de York, em 
 972, pelo rei Eadgar, conservando, contudo, a administração da diocese de W
 orcester para levar a cabo a reforma dos mosteiros. Para fazer da abadia de
  Ramsay centro de estudo científico, fez vir de Fleury o monge Abbon, que a
 í ficou dois anos, isto é, até sua eleição como abade de Fleury. Como o cle
 ro da catedral de Worcester recusasse aceitar a reforma imposta por Osvaldo
 , este mandou construir ali uma abadia e uma igreja dedicadas a Nossa Senho
 ra. Instalou aí beneditinos, que frequentemente visitava, e com isso a igre
 ja abacial acabou por se tornar igreja catedral. \nNa quaresma costumava la
 var diariamente os pés de doze pobres; e faleceu no dia 29 de fevereiro de 
 992, no fim dessa cerimónia.\n
DTSTAMP:20260420T052255Z
DTSTART;TZID=Europe/Lisbon;VALUE=DATE:20190228
DTEND;TZID=Europe/Lisbon;VALUE=DATE:20190301
SEQUENCE:0
TRANSP:OPAQUE
END:VEVENT
END:VCALENDAR