BEGIN:VCALENDAR
VERSION:2.0
PRODID:-//jEvents 2.0 for Joomla//EN
CALSCALE:GREGORIAN
METHOD:PUBLISH
BEGIN:VTIMEZONE
TZID:Europe/Lisbon
BEGIN:STANDARD
DTSTART:20180224T000000
RDATE:20180325T020000
TZOFFSETFROM:+0100
TZOFFSETTO:+0000
TZNAME:Europe/Lisbon WET
END:STANDARD
BEGIN:STANDARD
DTSTART:20181028T010000
RDATE:20190331T020000
TZOFFSETFROM:+0100
TZOFFSETTO:+0000
TZNAME:Europe/Lisbon WET
END:STANDARD
BEGIN:STANDARD
DTSTART:20191027T010000
RDATE:20200329T020000
TZOFFSETFROM:+0100
TZOFFSETTO:+0000
TZNAME:Europe/Lisbon WET
END:STANDARD
BEGIN:STANDARD
DTSTART:20201025T010000
RDATE:20210328T020000
TZOFFSETFROM:+0100
TZOFFSETTO:+0000
TZNAME:Europe/Lisbon WET
END:STANDARD
BEGIN:DAYLIGHT
DTSTART:20180325T020000
RDATE:20181028T010000
TZOFFSETFROM:+0000
TZOFFSETTO:+0100
TZNAME:Europe/Lisbon WEST
END:DAYLIGHT
BEGIN:DAYLIGHT
DTSTART:20190331T020000
RDATE:20191027T010000
TZOFFSETFROM:+0000
TZOFFSETTO:+0100
TZNAME:Europe/Lisbon WEST
END:DAYLIGHT
BEGIN:DAYLIGHT
DTSTART:20200329T020000
RDATE:20201025T010000
TZOFFSETFROM:+0000
TZOFFSETTO:+0100
TZNAME:Europe/Lisbon WEST
END:DAYLIGHT
END:VTIMEZONE
BEGIN:VEVENT
UID:1c90652b5d5a42fb62ea861d23eadc9e
CATEGORIES:Santos
SUMMARY:Santa Valburga
DESCRIPTION;ENCODING=QUOTED-PRINTABLE:Santa Valburga nasceu por volta do ano 710 em Devonshire (Inglaterra). Sant
 a Valburga nasceu no seio duma rica família anglo-saxã que se sucedia no tr
 ono desde o século III. Era filha de São Ricardo e irmã de São Vilibaldo e 
 São Vunibaldo. \nSanta Valburga tinha completado dez anos quando o seu pai 
 entregou o trono ao sobrinho, que tinha atingido a maioridade e levou a fam
 ília para viver num mosteiro. Poucos meses depois, o rei e os dois filhos p
 artiram em peregrinação para Jerusalém, enquanto ela foi confiada à abadess
 a de Wimburn. Dois anos depois o seu pai morreu em Itália e Santa Valburga 
 ficou no mosteiro onde se fez monja e se formou. \nEm 748, Santa Valburga f
 oi enviada por sua abadessa à Alemanha, junto com outras religiosas, para f
 undar e implantar mosteiros e escolas entre populações recém-convertidas. N
 a viagem, uma grande tempestade foi acalmada pelas preces de Valburga. Sant
 a Valburga foi apoiada na Alemanha pelo sei tio São Bonifácio (http://www.p
 aroquia-almancil.pt/utilidades/vida-dos-santos/icalrepeat.detail/2018/06/05
 /58686/-/s-bonif%C3%A1cio.html) que consolidava um grande trabalho de evang
 elização.\nSão Bonifácio designou a sobrinha para a diocese de Eichestat on
 de Vunibaldo tinha construído um mosteiro em Heidenheim e tinha projeto par
 a um feminino na mesma localidade. Ambos concluíram o novo mosteiro e Santa
  Valburga foi eleita a abadessa. Após a morte do irmão, a santa passou a di
 rigir os dois mosteiros, função que exerceu durante dezassete anos.\nNessa 
 época transpareceu a sua santidade nos exemplos de sua mortificação, bem co
 mo no seu amor ao silêncio e na sua devoção ao Senhor. As obras assistencia
 is executadas pelos seus religiosos fizeram destes mosteiros os mais famoso
 s e procurados de toda a região. Santa Valburga entregou-se a Deus de tal f
 orma que os prodígios aconteciam com frequência. Os mais citados são: o de 
 uma luz sobrenatural que envolveu sua cela enquanto rezava, presenciada por
  todas as outras religiosas e o da cura da filha de um barão, depois de uma
  noite de orações ao seu lado.\nFaleceu a 25 de fevereiro de 779. \nFoi can
 onizada pelo Papa Adriano II nos finais dos ano 800.\n\nSanta Valburga, rog
 ai por nós!\n
DTSTAMP:20260419T200853Z
DTSTART;TZID=Europe/Lisbon;VALUE=DATE:20190225
DTEND;TZID=Europe/Lisbon;VALUE=DATE:20190226
SEQUENCE:0
TRANSP:OPAQUE
END:VEVENT
END:VCALENDAR