BEGIN:VCALENDAR
VERSION:2.0
PRODID:-//jEvents 2.0 for Joomla//EN
CALSCALE:GREGORIAN
METHOD:PUBLISH
BEGIN:VTIMEZONE
TZID:Europe/Lisbon
END:VTIMEZONE
BEGIN:VEVENT
UID:830985e08c2aaf5c0c62ac3da4107756
CATEGORIES:Santos
SUMMARY:São Calisto Caravário
DESCRIPTION;ENCODING=QUOTED-PRINTABLE:São Calisto Caravário nasceu a 18 de junho de 1903 em Cuorgnè, na província
  de Turim (Itália). São Calisto Caravário amava ternamente a sua mãe, com q
 uem se comunicava frequentemente por carta. Aos 5 anos mudou-se com a famíl
 ia para Turim. perto do oratório de Porta Nuova. São Calisto Caravário freq
 uentava a escola salesiana e todos os dias fazia questão de ajudar na Missa
 .\nAconselhado pelo diretor do oratório, o Pe. Sante Garelli, São Calisto C
 aravário entrou para o noviciado e tornou-se salesiano. No ano de 1922, S. 
 Luís Versiglia (http://www.paroquia-almancil.pt/utilidades/vida-dos-santos/
 icalrepeat.detail/2018/02/25/56712/-/s-lu%C3%ADs-versiglia.html) fez uma vi
 sita a Itália e falou aos padres sobre as missões. São Calisto ter-lhe-á di
 to &ldquo;Excelência, um dia eu estarei junto com o senhor na China&rdquo;.
 \nSão Calisto Caravário insistiu e viu o seu desejo de partir em missão ser
  atendido. Primeiro partiu com destino a Macau, dois anos mais tarde foi en
 viado a Timor. Posteriormente é enviado para Shiu Chow, onde S. Luís Versig
 lia o ordena sacerdote e lhe confia a missão de Linchow. Em pouco tempo vis
 itou todas as famílias e conquistou a simpatia dos meninos das escolas.\nNo
  mês de fevereiro de 1930, durante uma viagem a Linchow, São Luís Versiglia
  e São Calisto Caravário são aprisionados por piratas e ladrões. Os santos 
 foram depois levados para a mata, perto de Li-Thau-Tseul. Poucos antes de s
 erem fuzilados, São Luís Caravário confessou-se a S. Luís Versiglia que fez
  também o mesmo.\nSão Calisto foi assassinado a 25 de fevereiro de 1930.\nF
 oi canonizado pelo Papa João Paulo II a 1 de outubro de 2000, juntamente co
 m 118 mártires chineses.\n \nS. Calisto Caravário rogai por nós!\n
DTSTAMP:20260420T060310Z
DTSTART;TZID=Europe/Lisbon;VALUE=DATE:20220225
DTEND;TZID=Europe/Lisbon;VALUE=DATE:20220226
SEQUENCE:0
TRANSP:OPAQUE
END:VEVENT
END:VCALENDAR