BEGIN:VCALENDAR
VERSION:2.0
PRODID:-//jEvents 2.0 for Joomla//EN
CALSCALE:GREGORIAN
METHOD:PUBLISH
BEGIN:VTIMEZONE
TZID:Europe/Lisbon
BEGIN:STANDARD
DTSTART:20180224T000000
RDATE:20180325T020000
TZOFFSETFROM:+0100
TZOFFSETTO:+0000
TZNAME:Europe/Lisbon WET
END:STANDARD
BEGIN:STANDARD
DTSTART:20181028T010000
RDATE:20190331T020000
TZOFFSETFROM:+0100
TZOFFSETTO:+0000
TZNAME:Europe/Lisbon WET
END:STANDARD
BEGIN:STANDARD
DTSTART:20191027T010000
RDATE:20200329T020000
TZOFFSETFROM:+0100
TZOFFSETTO:+0000
TZNAME:Europe/Lisbon WET
END:STANDARD
BEGIN:STANDARD
DTSTART:20201025T010000
RDATE:20210328T020000
TZOFFSETFROM:+0100
TZOFFSETTO:+0000
TZNAME:Europe/Lisbon WET
END:STANDARD
BEGIN:DAYLIGHT
DTSTART:20180325T020000
RDATE:20181028T010000
TZOFFSETFROM:+0000
TZOFFSETTO:+0100
TZNAME:Europe/Lisbon WEST
END:DAYLIGHT
BEGIN:DAYLIGHT
DTSTART:20190331T020000
RDATE:20191027T010000
TZOFFSETFROM:+0000
TZOFFSETTO:+0100
TZNAME:Europe/Lisbon WEST
END:DAYLIGHT
BEGIN:DAYLIGHT
DTSTART:20200329T020000
RDATE:20201025T010000
TZOFFSETFROM:+0000
TZOFFSETTO:+0100
TZNAME:Europe/Lisbon WEST
END:DAYLIGHT
END:VTIMEZONE
BEGIN:VEVENT
UID:68fe407a1f1359d03694a6dfd74c6025
CATEGORIES:Santos
SUMMARY:São Luís Versiglia
DESCRIPTION;ENCODING=QUOTED-PRINTABLE:São Luís Versiglia nasceu a 5 de junho de 1873 em Oliva Gessi, Pavia (Itáli
 a) e faleceu a 25 de fevereiro de 1930 em Li-Thau-Tseul (China).\nA 16 de s
 etembro de 1885, com apenas 12 anos de idade. São Luís Versiglia partiu da 
 sua cidade natal para Turim a fim de estudar com São João Bosco (http://www
 .paroquia-almancil.pt/utilidades/vida-dos-santos/icalrepeat.detail/2018/01/
 31/13699/-/s-jo%C3%A3o-bosco.html). São Luís Versiglia tinha intenção de in
 gressar na Universidade Salesiana para ser veterinário. Permaneceu com S. J
 oão Bosco durante dois anos e meio, período em que aquele foi seu confessor
 .\nPoucos dias depois da morte de São João Bosco, a 11 de março de 1888, Sã
 o Luís Versiglia assistiu na Basílica de Maria Auxiliadora à imposição do c
 rucifixo a sete missionários que partiam para as missões. Foi então que dec
 idiu renunciar à sua carreira de veterinário e tornar-se salesiano para ser
  missionário. Entrou para o noviciado em Foglizzo nesse mesmo ano, sendo en
 viado pouco depois para a Pontifícia Universidade Gregoriana de Roma onde e
 studou filosofia. Por esse tempo realizou uma intensa atividade pastoral no
  oratório do Sagrado Coração. São Luís Versiglia licenciou-se no ano de 189
 3 e regressa a Foglizzo como assistente e professor dos noviços. Foi ordena
 do sacerdote a 21 de dezembro de1895.\nSão Luís Versiglia foi o primeiro di
 retor e mestre do noviciado de Genzano, onde permaneceu por 9 anos. Aí o sa
 nto aprendeu diversos idiomas para poder partir como missionário o que acon
 tece em janeiro de 1906. São Luís Versiglia parte numa missão liderada por 
 ele com destino a Macau. O Bispo de Macau, D. João Paulino de Azevedo e Cas
 tro, acolheu calorosamente a chegada dos salesianos, entregando-lhes em 190
 6 a direção do Orfanato da Imaculada Conceição, que albergaria um máximo de
  55 rapazes. Este orfanato tornou-se no Instituto Salesiano. Em 1910, quand
 o o bispo os mudou para uma residência maior, como agradecimento pelo seu t
 rabalho, estalaram as lutas entre a Igreja Católica e a recém-implantada Pr
 imeira República Portuguesa, que impôs um regime anticlerical em Portugal e
  nos seus territórios do Ultramar. As autoridades de Macau, apesar de não t
 erem razões objetivas para tal, são obrigadas a expulsar os salesianos e de
 mais ordens religiosas. A 29 de novembro de 1910, os salesianos são obrigad
 os a mudarem-se para Hong Kong.\nFoi-lhes então confiado um orfanato no dis
 trito de Heung Shan ou Heunh Chow, que estava sob jurisdição eclesiástica d
 a diocese de Macau. Os salesianos chegaram ao orfanato a 18 de maio de 1911
  e foram recebidos por dois ex-alunos do Instituto Salesiano e por uma gran
 de multidão em festa. A 10 de outubro, uma monção causou sérios danos à res
 idência de Heung Chow. Até 1912, os salesianos de Luís Versiglia conseguira
 m estabelecer no distrito quatro residências missionárias.\nEm 1912 chegara
 m novos reforços da Europa e Luís Versiglia decidiu distribuir os seus home
 ns pelas quatro residências missionárias enquanto ele próprio dividia o seu
  tempo entre Macau e a sua missão chinesa de Heung Shan, adjacente ao Rio d
 as Pérolas. Em 1916, São Luís Versiglia transformou o Instituto Salesiano n
 uma obra de maior dimensão, com grandes camaratas, oficinas de calçado e al
 faiataria, laboratórios modernos, uma tipografia, um grande pátio para recr
 eação e uma escola de comércio. O Instituto Salesiano passou a ter capacida
 de para 200 alunos.\nDois anos mais tarde, em 1918, São luís Versiglia viu 
 o seu trabalho triplicado, uma vez que os salesianos começaram também a tra
 balhar em Shaozhou, fora da Diocese de Macau. A 9 de janeiro de 1921 São Lu
 ís Versiglia foi sagrado o primeiro bispo do Vicariato Apostólico de Shaozh
 ou.\nEm 1922, São Luís Versiglia faz uma visita a Itália e S. Calisto Carav
 ário (http://www.paroquia-almancil.pt/utilidades/vida-dos-santos/icalrepeat
 .detail/2018/02/25/56794/-/s-calisto-carav%C3%A1rio.html) oferece-se para o
  ajudar na China.\nEm 1926, começaram na China perseguições e queixas contr
 a o Cristianismo e a 13 de dezembro de 1927 foram incendiadas todas as igre
 jas e missões de Shiw Chow. Nos anos seguintes, o ambiente tornou-se cada v
 ez mais hostil e complicado.\nA 24 de fevereiro de 1930, os dois santos (Ve
 rsiglia e Caravário) partiram com três alunas do Colégio Dom Bosco para Lin
 chow para realizar trabalho pastoral na missão salesiana existente naquela 
 povoação e liderada por S. Callisto Caravário. No dia seguinte, durante a v
 iagem, foram aprisionados por piratas e ladrões que exigiram o pagamento de
  um resgate para os deixarem prosseguir. S. Luís Versiglia e s. Calisto Car
 avário tentaram proteger as jovens que viajavam com eles, para que os malfe
 itores não se aproveitassem delas. Depois disso os dois santos foram espanc
 ados, levados para perto da aldeia de Li-Thau-Tseul e assassinados, corria 
 então o dia de 25 de fevereiro de 1930.\nSão Luís Versiglia foi canonizado 
 a 1 de outubro de 2000 pelo Papa João Paulo II, conjuntamente com outros 11
 8 mártires chineses.\n \nS. Luís Versiglia rogai por nós!\n
DTSTAMP:20260419T213920Z
DTSTART;TZID=Europe/Lisbon;VALUE=DATE:20190225
DTEND;TZID=Europe/Lisbon;VALUE=DATE:20190226
SEQUENCE:0
TRANSP:OPAQUE
END:VEVENT
END:VCALENDAR