BEGIN:VCALENDAR
VERSION:2.0
PRODID:-//jEvents 2.0 for Joomla//EN
CALSCALE:GREGORIAN
METHOD:PUBLISH
BEGIN:VTIMEZONE
TZID:Europe/Lisbon
END:VTIMEZONE
BEGIN:VEVENT
UID:1aa89df639ddd9b47c04a48850f833b6
CATEGORIES:Santos
SUMMARY:Conversão de São João de Deus
DESCRIPTION;ENCODING=QUOTED-PRINTABLE:\n\nDe acordo com Francisco de Castro que escreveu a "História da vida e ob
 ras de João de Deus" foi «no dia do bem-aventurado mártir São Sebastião, fa
 zia-se, na cidade de Granada, uma festa solene na ermida dos Mártires,... e
  sucedeu ir lá pregar um homem famoso, mestre em teologia, chamado o mestre
  Ávila, luz e esplendor de santidade... Com viva argumentação, o santo varã
 o exaltava o prémio que o Senhor oferecera ao seu santo Mártir, por ter pad
 ecido por seu amor tantos tormentos, e daqui tirava a conclusão, do que dev
 ia fazer o cristão para servir o seu Senhor, não O ofendendo, e até a padec
 er mil mortes em troca de tão grande recompensa. João de Deus, ajudado com 
 a graça do Senhor que deu vida àquelas palavras, de tal modo as gravou na s
 ua alma e nele foram tão eficazes, que logo mostraram a sua força e o seu p
 oder. Com efeito, terminado o sermão, saiu dali como que fora de si, suplic
 ando, em alta voz, a misericórdia de Deus..., saltando e correndo... até ch
 egar à sua morada... Pegou nos livros que tinha; e os que tratavam de caval
 aria e coisas profanas, rasgou-os... e os que eram da vida de Santos... dav
 a-os a quem lhos pedisse por amor de Deus... E, assim, nu, descalço e com a
  cabeça descoberta, voltou, gritando, pelas ruas principais de Granada... D
 este modo, andou João, pedindo misericórdia ao Senhor... Sendo visto por al
 gumas pessoas de respeito..., estas levaram-no ao padre Ávila... que, depoi
 s de o ter confortado, o aconselhou dizendo: "Ide em paz com a bênção do Se
 nhor e a minha. Eu confio no Senhor, que não vos será negada a sua misericó
 rdia". ... Internado como louco no Hospital Real, trataram-no com a terapia
  então utilizada. Esta experiência, ajudou-o a amadurecer a sua vocação, qu
 e expressou com estas palavras: "Jesus Cristo, me dê tempo e me conceda a g
 raça de eu ter um hospital, onde possa acolher os pobres desamparados e os 
 doentes, para servi-los como eu desejo".»\nSe quiser saber mais sobre a vid
 a de S. João de Deus, clique aqui http://www.paroquia-almancil.pt/utilidade
 s/vida-dos-santos/icalrepeat.detail/2018/03/08/42466/-/s-jo%C3%A3o-de-deus.
 html\n
DTSTAMP:20260420T202800Z
DTSTART;TZID=Europe/Lisbon;VALUE=DATE:20240120
DTEND;TZID=Europe/Lisbon;VALUE=DATE:20240121
SEQUENCE:0
TRANSP:OPAQUE
END:VEVENT
END:VCALENDAR