BEGIN:VCALENDAR
VERSION:2.0
PRODID:-//jEvents 2.0 for Joomla//EN
CALSCALE:GREGORIAN
METHOD:PUBLISH
BEGIN:VTIMEZONE
TZID:Europe/Lisbon
BEGIN:STANDARD
DTSTART:20190215T000000
RDATE:20190331T020000
TZOFFSETFROM:+0100
TZOFFSETTO:+0000
TZNAME:Europe/Lisbon WET
END:STANDARD
BEGIN:STANDARD
DTSTART:20191027T010000
RDATE:20200329T020000
TZOFFSETFROM:+0100
TZOFFSETTO:+0000
TZNAME:Europe/Lisbon WET
END:STANDARD
BEGIN:STANDARD
DTSTART:20201025T010000
RDATE:20210328T020000
TZOFFSETFROM:+0100
TZOFFSETTO:+0000
TZNAME:Europe/Lisbon WET
END:STANDARD
BEGIN:DAYLIGHT
DTSTART:20190331T020000
RDATE:20191027T010000
TZOFFSETFROM:+0000
TZOFFSETTO:+0100
TZNAME:Europe/Lisbon WEST
END:DAYLIGHT
BEGIN:DAYLIGHT
DTSTART:20200329T020000
RDATE:20201025T010000
TZOFFSETFROM:+0000
TZOFFSETTO:+0100
TZNAME:Europe/Lisbon WEST
END:DAYLIGHT
END:VTIMEZONE
BEGIN:VEVENT
UID:87859530ebe233206a16e9678efbbbf1
CATEGORIES:Santos
SUMMARY:Santa Juliana de Nicomedia
DESCRIPTION;ENCODING=QUOTED-PRINTABLE:Santa Juliana de Nicomedia terá nascido no ano de 285 em Nicomedia (atual T
 urquia) e faleceu no ano de 304 ou 305. Juliana era filha duma família ilus
 tre de Nicomedia, o seu pai de nome Africano era pagão (prestava culto a vá
 rios deuses) e a sua mãe agnóstica (não acreditava em nenhum Deus). Devido 
 à sua situação familiar, Juliana batizou-se em segredo e entregou-se inteir
 amente a Cristo.\nSanta Juliana de Nicomedia era filha de Africano, homem r
 ude e pagão, e, desde a infância, havia abraçado o cristianismo. Quando sou
 be que o pai a tinha prometido a um jovem nobre chamado Evilásio, não pode 
 deixar de sentir certa repugnância pois Evilásio era também pagão.\nSanta J
 uliana era uma filha obediente e submissa ao seu pai, contudo não poderia a
 ceitar o casamento com um homem pagão. Então depois de pensar muito sobre a
  situação, foi procurar Evilásio e ter-lhe-á dito que só casava com ele qua
 ndo este fosse prefeito da cidade.\nEvilásio que tinha grande influência na
  cidade, tornou-se prefeito da mesma pouco tempo depois. Foi então ter com 
 Santa Juliana de Nicomedia que lhe respondeu que era cristã e que não poder
 ia de modo algum unir-se a um pagão, convidando o jovem Evilásio a converte
 r-se ao cristianismo.\nMuito agastado, Evilásio procurou o pai de Santa Jul
 iana que tentou a todo o custo demovê-la da sua posição. Africano tratou Sa
 nta Juliana com carinho, ameaças e até punições físicas. Vendo que não cons
 eguia mudar a opinião da filha fez-lhe um ultimato, ou se casava ou ia a tr
 ibunal. Santa Juliana preferiu ir a tribunal e Evilásio, na qualidade de pr
 efeito, intimou-a a prestar declarações sobre a fé. Como Santa Juliana não 
 renunciou à fé cristã, Evilásio mandou-a prender.\nNessa mesma noite, no in
 terior da cela apareceu a Santa Juliana um anjo, luminoso, que lhe disse:\n
 - Juliana, sacrifica aos deuses! Deves obedecer à vontade do imperador.\nSa
 nta Juliana pensou porque lhe haveria Deus de lhe pedir tal coisa. Aquilo s
 ó podia ser obra do demónio. Assim orou com fervor, suplicando ao Senhor qu
 e lhe desse forças para vencer a tentação.\nEvilásio fê-la passar pelos sup
 lícios mais atrozes. Por fim, mandou decapitá-la.\n \nSanta Juliana de Nico
 media rogai por nós!\n
DTSTAMP:20260420T033124Z
DTSTART;TZID=Europe/Lisbon;VALUE=DATE:20200216
DTEND;TZID=Europe/Lisbon;VALUE=DATE:20200217
SEQUENCE:0
TRANSP:OPAQUE
END:VEVENT
END:VCALENDAR