BEGIN:VCALENDAR
VERSION:2.0
PRODID:-//jEvents 2.0 for Joomla//EN
CALSCALE:GREGORIAN
METHOD:PUBLISH
BEGIN:VTIMEZONE
TZID:Europe/Lisbon
BEGIN:STANDARD
DTSTART:20200216T000000
RDATE:20200329T020000
TZOFFSETFROM:+0100
TZOFFSETTO:+0000
TZNAME:Europe/Lisbon WET
END:STANDARD
BEGIN:STANDARD
DTSTART:20201025T010000
RDATE:20210328T020000
TZOFFSETFROM:+0100
TZOFFSETTO:+0000
TZNAME:Europe/Lisbon WET
END:STANDARD
BEGIN:DAYLIGHT
DTSTART:20200329T020000
RDATE:20201025T010000
TZOFFSETFROM:+0000
TZOFFSETTO:+0100
TZNAME:Europe/Lisbon WEST
END:DAYLIGHT
END:VTIMEZONE
BEGIN:VEVENT
UID:86de79f30634b2a7021fb65e6e61c4ef
CATEGORIES:Santos
SUMMARY:Beato José Allamano
DESCRIPTION;ENCODING=QUOTED-PRINTABLE:\n\nBeato José Allamano nasceu a 21 de janeiro de 1851 em Castelnuovo D'Ast
 i (Itália) e faleceu a 16 de fevereiro de 1926 em Turim (Itália) Era filho 
 de José Allamano y Maria Ana Cafasso. Era o quarto de cinco filhos. O beato
  José Allamano nasceu numa pequena cidade que se dedicava à agricultura e a
 o cultivo de vinhedo que cobriam as colinas e campos.\nFicou órfão de pai a
 os três anos e a sua mãe que era irmã de S. José Cafasso (http://www.paroqu
 ia-almancil.pt/utilidades/vida-dos-santos/icalrepeat.detail/2018/06/23/5827
 5/-/s-jos%C3%A9-cafasso.html) educou os seus cinco filhos daí em diante com
  a ajuda do irmão.\nEnquanto criança o Beato José Allamano foi um ótimo alu
 no, exemplar e muito aplicado. A família do beato mudou-se para Turim, onde
  José Allamano iniciou os seus estudos no Oratório de Dom Bosco, sendo o me
 lhor da turma. São João Bosco (http://www.paroquia-almancil.pt/utilidades/v
 ida-dos-santos/icalrepeat.detail/2018/01/31/13699/-/s-jo%C3%A3o-bosco.html)
 , descobriu em José Allamano, de apenas 11 anos, excelentes qualidades para
  torná-lo um membro da Sociedade Salesiana, contudo o jovem ingressa no Sem
 inário Diocesano de Turim. Apesar da constituição física fraca, era espirit
 ualmente forte e dedicou-se com entusiasmo ao estudo e à oração.\nFoi orden
 ado sacerdote a 20 de setembro de 1873 na Catedral de Turim. Em 1878 graduo
 u-se em Teologia pela Faculdade Pontifícia de Teologia, pertencente à Unive
 rsidade de Turim. Foi imediatamente nomeado confessor do seminário e em 188
 0 reitor do santuário de Nossa Senhora da Consolata. Durante o período de 4
 6 anos em que foi reitor do santuário, o beato José Alamano dedicou-se à re
 stauração estrutural e espiritual do mesmo e recuperou o convictório eclesi
 ástico para jovens sacerdotes.\nCompreendendo claramente que todo o sacerdo
 te é missionário e constatando a abundância de clero nas dioceses do Piemon
 te, o Padre José Allamano fundou o Instituto Missões Consolata dos padres e
  irmãos a 29 de janeiro de 1901. De saúde frágil, o beato não podia partir 
 em missão mas apenas dois anos mais tarde, enviava os primeiros quatro miss
 ionários (2 padres e 2 irmãos) para as missões do Quénia, país do Sudeste d
 a África.\nO trabalho de Evangelização expandia-se e os missionários sentir
 am a necessidade da presença missionária feminina pedindo ao Fundador que e
 nviasse religiosas para um trabalho complementar. Naquele tempo não era fác
 il atender a este pedido, uma vez que as congregações femininas de então, n
 ão haviam despertado ainda para o carisma missionário além-fronteiras. Dian
 te do impasse, o Pe. José Allamano, deslocou-se a Roma, e expôs a dificulda
 de ao Papa Pio X que lhe perguntou:\n"Por que não funda você mesmo um insti
 tuto missionário feminino?"\n"Eu não tenho vocação para isto, Santidade".\n
 "Não a tem? Pois bem, eu lha dou. Vá e comece a pensar nisto".\nO beato Jos
 é Allamano tomou aquela ordem como a vontade de Deus e começou a tomar as d
 evidas providências. O novo projeto custou-lhe vários anos de trabalho árdu
 o, muita reflexão, dificuldades e sacrifícios. No ano de 1910 fundou, em Tu
 rim, o Instituto das Irmãs Missionárias da Consolata. Com a fundação das Ir
 mãs, o trabalho missionário estendeu-se a outros países africanos: em 1916 
 na Etiópia; em 1922 na Tanzânia; em 1924 na Somália; em 1925, Moçambique. E
 m 1946 no Brasil e assim, sucessivamente em outros países da Europa, África
 , América e Ásia. Dizia que seus missionários eram portadores de esperança:
  "Esta é realmente obra do Senhor".\nFoi beatificado pelo Papa João Paulo I
 I a 7 de outubro de 1990.\n
DTSTAMP:20260420T060311Z
DTSTART;TZID=Europe/Lisbon;VALUE=DATE:20210216
DTEND;TZID=Europe/Lisbon;VALUE=DATE:20210217
SEQUENCE:0
TRANSP:OPAQUE
END:VEVENT
END:VCALENDAR