BEGIN:VCALENDAR
VERSION:2.0
PRODID:-//jEvents 2.0 for Joomla//EN
CALSCALE:GREGORIAN
METHOD:PUBLISH
BEGIN:VTIMEZONE
TZID:Europe/Lisbon
BEGIN:STANDARD
DTSTART:20170213T000000
RDATE:20170326T020000
TZOFFSETFROM:+0100
TZOFFSETTO:+0000
TZNAME:Europe/Lisbon WET
END:STANDARD
BEGIN:STANDARD
DTSTART:20171029T010000
RDATE:20180325T020000
TZOFFSETFROM:+0100
TZOFFSETTO:+0000
TZNAME:Europe/Lisbon WET
END:STANDARD
BEGIN:STANDARD
DTSTART:20181028T010000
RDATE:20190331T020000
TZOFFSETFROM:+0100
TZOFFSETTO:+0000
TZNAME:Europe/Lisbon WET
END:STANDARD
BEGIN:STANDARD
DTSTART:20191027T010000
RDATE:20200329T020000
TZOFFSETFROM:+0100
TZOFFSETTO:+0000
TZNAME:Europe/Lisbon WET
END:STANDARD
BEGIN:STANDARD
DTSTART:20201025T010000
RDATE:20210328T020000
TZOFFSETFROM:+0100
TZOFFSETTO:+0000
TZNAME:Europe/Lisbon WET
END:STANDARD
BEGIN:DAYLIGHT
DTSTART:20170326T020000
RDATE:20171029T010000
TZOFFSETFROM:+0000
TZOFFSETTO:+0100
TZNAME:Europe/Lisbon WEST
END:DAYLIGHT
BEGIN:DAYLIGHT
DTSTART:20180325T020000
RDATE:20181028T010000
TZOFFSETFROM:+0000
TZOFFSETTO:+0100
TZNAME:Europe/Lisbon WEST
END:DAYLIGHT
BEGIN:DAYLIGHT
DTSTART:20190331T020000
RDATE:20191027T010000
TZOFFSETFROM:+0000
TZOFFSETTO:+0100
TZNAME:Europe/Lisbon WEST
END:DAYLIGHT
BEGIN:DAYLIGHT
DTSTART:20200329T020000
RDATE:20201025T010000
TZOFFSETFROM:+0000
TZOFFSETTO:+0100
TZNAME:Europe/Lisbon WEST
END:DAYLIGHT
END:VTIMEZONE
BEGIN:VEVENT
UID:522f0e3cd1529e09c09e937de17e1391
CATEGORIES:Santos
SUMMARY:São Cirilo
DESCRIPTION;ENCODING=QUOTED-PRINTABLE:São Cirilo nasceu no ano de 826 em Tessalónica (Grécia) e faleceu a 14 de f
 evereiro de 869 em Roma (Itália). Era filho de Leão e Maria e irmão de São 
 Metódio (http://www.paroquia-almancil.pt/utilidades/vida-dos-santos/icalrep
 eat.detail/2018/02/14/55072/-/s-met%C3%B3dio.html), que também celebramos h
 oje. Ao todo eram sete irmãos, São Metódio o mais velho e São Cirilo o mais
  novo.\nAos 14 anos, São Cirilo ficou órfão de pai, e um amigo da família, 
 o professor Fócio, assumiu a educação dos órfãos. Por volta do ano 843 São 
 Cirilo foi enviado para Constantinopla onde estudou línguas, literatura, ge
 ometria, dialética e filosofia. Em 848, depois de completar os seus estudos
 , São Cirilo dedicou-se às tarefas de sub-diácono, depois diácono e ainda c
 omo cartofílax (oficial eclesiástico encarregado de documentos oficiais e r
 egistros na Igreja Ortodoxa Grega dos tempos bizantinos) do patriarca de Co
 nstantinopla.\nCerca de dois anos mais tarde, depois de rejeitar uma noiva 
 rica para casar, é escolhido por Teoctisto para serviços no Mosteiro de Clí
 dio (Klyuch), a nordeste de Tessalónica, sobre o Bósforo. Seis meses depois
  foi descoberto e designado para lecionar filosofia. Em seguida, convocado 
 como diplomata para a polémica questão sobre o culto das imagens junto ao e
 x-patriarca João VII, o Gramático. Depois foi resolver outra questão delica
 da junto aos árabes sarracenos que tratava da Santíssima Trindade. Obteve s
 ucesso em ambas.\nO seu irmão mais velho, São Metódio que era o prefeito de
  Constantinopla, abandonou tudo para se dedicar à vida religiosa. No ano de
  861, São Cirilo foi juntar-se a ele, numa missão evangelizadora, a pedido 
 do imperador Miguel III, para atender o rei da Morávia. Este rei precisava 
 de missionários que conhecessem a língua eslava, pois queria que o povo apr
 endesse corretamente a religião. Os irmãos foram para Quersoneso (atual Ucr
 ânia) aprender hebraico e samaritano.\nNesta ocasião, São Cirilo encontrou 
 um corpo boiando, que reconheceu ser o papa Clemente I, que tinha sido exil
 ado de Roma e atirado ao mar. Conservaram as relíquias numa urna, que depoi
 s da missão foi entregue em Roma. Assim, o santo continuou a estudar o idio
 ma e criou um alfabeto que mais tarde viria a ser conhecido como alfabeto c
 irílico. Alfabetizou a equipa dos padres missionários, que começou a evange
 lizar, alfabetizar e celebrar as missas em eslavo. Isto gerou uma grande di
 vergência no meio eclesiástico, pois os ritos eram realizados em grego ou l
 atim, apenas. Iniciando o cisma da Igreja, que foi combatido pelo então pat
 riarca Fócio com o reforço de seu irmão. Os dois foram chamados por Roma, o
 nde o papa Adriano II, solenemente recebeu as relíquias de São Clemente, qu
 e os santos transportavam. Conseguiram o apoio do Sumo Pontífice, que aprov
 ava a evangelização e tiveram os Livros traduzidos abençoados.\nMas, São Ci
 rilo que se encontrava doente, piorou. Pressentido a sua morte, tomou o háb
 ito definitivo de monge e adotou o nome de Cirilo. Cinquenta dias depois, f
 aleceu em Roma no dia 14 de fevereiro de 868.\nÉ juntamente com o seu irmão
  São Metódio &lsquo;apóstolo dos eslavos&rsquo;.\nFoi juntamente com São Me
 tódio e São Bento proclamado copatrono da Europa pelo Papa João Paulo II no
  ano de 1980.\nSão Cirilo rogai por nós!\n
DTSTAMP:20260419T192412Z
DTSTART;TZID=Europe/Lisbon;VALUE=DATE:20180214
DTEND;TZID=Europe/Lisbon;VALUE=DATE:20180215
SEQUENCE:0
TRANSP:OPAQUE
END:VEVENT
END:VCALENDAR