BEGIN:VCALENDAR
VERSION:2.0
PRODID:-//jEvents 2.0 for Joomla//EN
CALSCALE:GREGORIAN
METHOD:PUBLISH
BEGIN:VTIMEZONE
TZID:Europe/Lisbon
BEGIN:STANDARD
DTSTART:20191027T010000
RDATE:20200329T020000
TZOFFSETFROM:+0100
TZOFFSETTO:+0000
TZNAME:Europe/Lisbon WET
END:STANDARD
BEGIN:STANDARD
DTSTART:20201025T010000
RDATE:20210328T020000
TZOFFSETFROM:+0100
TZOFFSETTO:+0000
TZNAME:Europe/Lisbon WET
END:STANDARD
BEGIN:DAYLIGHT
DTSTART:20190510T000000
RDATE:20191027T010000
TZOFFSETFROM:+0000
TZOFFSETTO:+0100
TZNAME:Europe/Lisbon WEST
END:DAYLIGHT
BEGIN:DAYLIGHT
DTSTART:20200329T020000
RDATE:20201025T010000
TZOFFSETFROM:+0000
TZOFFSETTO:+0100
TZNAME:Europe/Lisbon WEST
END:DAYLIGHT
END:VTIMEZONE
BEGIN:VEVENT
UID:67875b39756fd76cad581dcb771de354
CATEGORIES:Santos
SUMMARY:São Damião de Veuster
DESCRIPTION;ENCODING=QUOTED-PRINTABLE:São Damião de Veuster também é conhecido como Damião de Molokai e Padre Dam
 ião. Nasceu a 3 de janeiro de 1840 em Tremeloo (Bélgica) e faleceu a 15 de 
 abril de 1889 em Molokai (Havaí). São Damião de Veuster nasceu no seio duma
  família numerosa da região flamenga, a norte da Bélgica. Era o mais novo d
 e oito irmãos, quatro dos quais se dedicaram à igreja (duas irmãs de São Da
 mião de Veuster foram religiosas e um irmão era sacerdote). Foi batizado co
 mo Jozef de Veuster. Os pais de São Damião de Veuster eram pequenos proprie
 tários de uma fazenda agrícola e pecuária, e eram portadores de fé católica
  profunda.\nComo São Damião de Veuster era o mais novo dos filhos os pais p
 ensaram nele para para continuar o trabalho da casa, contudo São Damião sen
 tiu a vocação e quis seguir os passos do seu irmão Panfilo, entrando para a
  Congregação dos Sagrados Corações em Lovaina (Bélgica).\nDepois de realiza
 r o noviciado na Congregação dos Sagrados Corações, adotou o nome de Damião
  nos seus primeiros votos, tornando-se a 7 de outubro de 1860 no irmão Picp
 us. Em seguida, São Damião de Veuster é enviado para terminar os estudos nu
 m colégio teológico em Paris.\nA vida de São Damião de Veuster começou a mu
 dar quando completou vinte e um anos de idade. Um bispo do Havaí, arquipéla
 go do Pacífico, estava em Paris, onde ministrava algumas palestras e preten
 dia conseguir missionários para o local. Ele expunha os problemas daquela r
 egião e, especialmente, dos doentes de lepra, que eram exilados e abandonad
 os numa ilha chamada Molokai, por determinação do governo. Panfilo, irmão d
 e São Damião de Veuster pretendia participar ativamente nos trabalhos missi
 onários, contudo uma epidemia de febre tifoide atingiu o colégio e o seu ir
 mão caiu doente. São Damião de Veuster que ainda não era sacerdote, pediu p
 ara substituir o irmão. Nessa ocasião São Damião de Veuster escreveu uma ca
 rta ao superior da Ordem do Sagrado Coração, que, inspirado por Deus, permi
 tiu a sua partida. Assim, em 1863 Damião embarcava para o Havaí. São Damião
  de Veuster chegou ao porto de Honolulu a 19 de março de 1864 e foi ordenad
 o sacerdote nessa mesma cidade a 24 de março de 1864, na Catedral de Nossa 
 Senhora da Paz, uma igreja estabelecida pela sua Ordem Religiosa. \nChegand
 o ao arquipélago, São Damião de Veuster colocou-se a par da situação. A reg
 ião recebera imigrantes chineses e com eles a lepra. Em 1865, temendo a dis
 seminação da doença, o governo local decidiu isolar os doentes na ilha de M
 olokai. Nessa ilha existia uma península cujo acesso era impossível, exceto
  pelo mar. Assim, aquela península, chamada Kalauapa, tornou-se a prisão do
 s leprosos. São Damião de Veuster juntamente com outros três missionários p
 artiu para Molokai a fim de se revezarem nos cuidados com os leprosos. Os l
 eprosos não tinham como trabalhar, roubavam-se entre si e matavam-se por um
  punhado de arroz.\nNaquele local abandonado, São Damião de Veuster começou
  a trabalhar. O primeiro passo foi recuperar o cemitério e enterrar os mort
 os, depois construir uma igreja e estabelecer uma paróquia, dedicada a Sant
 a Filomena. São Damião de Veuster ia com frequência à capital, comprar faix
 as, remédios, lençóis e roupas para todos. Entretanto São Damião de Veuster
  escrevia também para o jornal local, contando os terrores da ilha de Molok
 ai. Essas notícias espalharam-se e abalaram o mundo, e todo o tipo de ajuda
  humanitária começou a surgir. Um médico que contraíra a lepra ao cuidar do
 s doentes ouviu falar de São Damião de Veuster e viajou para a ilha a fim d
 e ajudar.\nSão Damião de Veuster, trouxe uma nova esperança e alívio para o
 s doentes. Numa altura em que ninguém queria ter contacto com os leprosos, 
 São Damião de Veuster tratava-os como iguais, apertando a mão aos doentes e
  limpando-lhes as feridas.\nDurante aproximadamente dez anos, São Damião de
  Veuster trabalhou junto dos leprosos sem contrair a doença, até que em 188
 4 ou 1885 ao colocar o pé esquerdo numa bacia de água muito quente, não sen
 tiu o calor. São Damião de Veuster percebeu imediatamente que tinha contraí
 do a doença. Apesar da descoberta, os residentes assinalam que o santo trab
 alhou incansavelmente na construção de casas e elaborou planos para a conti
 nuação do programa que tinha criado para depois da sua morte.\nQuatro ou ci
 nco anos depois e sensivelmente dois meses antes da sua morte escreveu ao s
 eu irmão, o Padre Panfilo: &ldquo;serei sempre feliz e contente, e mesmo do
 ente não desejo senão cumprir a santa vontade de Deus&rdquo;. Esta carta es
 tá datada de 12 de fevereiro de 1889.\nSão Damião de Veuster continuou a su
 a missão conjuntamente com quatro colaboradores até duas semanas antes da s
 ua morte. Faleceu a 15 de abril de 1889, em Kalaupapa, Molokai.\nSão Damião
  de Veuster foi canonizado pelo Papa Bento XVI a 11 de outubro de 2009.\n \
 nSão Damião de Veuster rogai por nós!\n
DTSTAMP:20260420T233458Z
DTSTART;TZID=Europe/Lisbon;VALUE=DATE:20200510
DTEND;TZID=Europe/Lisbon;VALUE=DATE:20200511
SEQUENCE:0
TRANSP:OPAQUE
END:VEVENT
END:VCALENDAR