BEGIN:VCALENDAR
VERSION:2.0
PRODID:-//jEvents 2.0 for Joomla//EN
CALSCALE:GREGORIAN
METHOD:PUBLISH
BEGIN:VTIMEZONE
TZID:Europe/Lisbon
END:VTIMEZONE
BEGIN:VEVENT
UID:704758913db479b1b625a1c198625ce3
CATEGORIES:Santos
SUMMARY:São Jerónimo
DESCRIPTION;ENCODING=QUOTED-PRINTABLE:
DTSTAMP:20260419T202418Z
DTSTART;TZID=Europe/Lisbon;VALUE=DATE:20250930
DTEND;TZID=Europe/Lisbon;VALUE=DATE:20251001
SEQUENCE:0
TRANSP:OPAQUE
END:VEVENT
END:VCALENDAR