BEGIN:VCALENDAR
VERSION:2.0
PRODID:-//jEvents 2.0 for Joomla//EN
CALSCALE:GREGORIAN
METHOD:PUBLISH
BEGIN:VTIMEZONE
TZID:Europe/Lisbon
END:VTIMEZONE
BEGIN:VEVENT
UID:88799b5582b99bdf65467a88c0ab0319
CATEGORIES:Santos
SUMMARY:São Venceslau
DESCRIPTION;ENCODING=QUOTED-PRINTABLE:
DTSTAMP:20260420T002329Z
DTSTART;TZID=Europe/Lisbon;VALUE=DATE:20260928
DTEND;TZID=Europe/Lisbon;VALUE=DATE:20260929
SEQUENCE:0
TRANSP:OPAQUE
END:VEVENT
END:VCALENDAR