BEGIN:VCALENDAR
VERSION:2.0
PRODID:-//jEvents 2.0 for Joomla//EN
CALSCALE:GREGORIAN
METHOD:PUBLISH
BEGIN:VTIMEZONE
TZID:Europe/Lisbon
END:VTIMEZONE
BEGIN:VEVENT
UID:81e1053f74738094d9ed34180fe8b364
CATEGORIES:Santos
SUMMARY:Wulfstan
DESCRIPTION;ENCODING=QUOTED-PRINTABLE:\n\n \nWulfstan foi um bispo de Worcester, bispo de Londres e arcebispo de 
 Iorque.\nPensa-se que terá começado a sua carreira eclesiástica como um ben
 editino monge. Tornou-se bispo de Londres no ano de 996. No ano 1002 foi el
 eito simultaneamente bispo de Worcester e arcebispo de Iorque. No ano 1016,
  Wulfstan renunciou ao cargo de bispo de Worcester, no entanto manteve-se a
 rcebispo de Iorque até à sua morte.\nWulfstan tornou-se famoso pelas suas h
 omilias, sobre o tema AntiCristo. Wulfstan é considerado um dos dois grande
 s escritores do final do período anglo-saxão na Inglaterra. \nDepois da sua
  morte, foram vários os milagres que se dizem ter ocorrido no seu túmulo, n
 o entanto as tentativas para declara-lo santo nunca foram bem sucedidas.\nM
 orte: 28 de maio do ano 1023 d.C., em Iorque\n
DTSTAMP:20260420T191900Z
DTSTART;TZID=Europe/Lisbon;VALUE=DATE:20240119
DTEND;TZID=Europe/Lisbon;VALUE=DATE:20240120
SEQUENCE:0
TRANSP:OPAQUE
END:VEVENT
END:VCALENDAR