BEGIN:VCALENDAR
VERSION:2.0
PRODID:-//jEvents 2.0 for Joomla//EN
CALSCALE:GREGORIAN
METHOD:PUBLISH
BEGIN:VTIMEZONE
TZID:Europe/Lisbon
END:VTIMEZONE
BEGIN:VEVENT
UID:ea4db8b12b1945efbec0e288ede1140e
CATEGORIES:Santos
SUMMARY:João Nepomuceno Neumann
DESCRIPTION;ENCODING=QUOTED-PRINTABLE:\n\n\n\n\nJoão Nepomuceno é filho de pai alemão e mãe checa. Foi baptizado 
 segundo o padroeiro da boémia e destinado a entrar para a Igreja. Porém, o 
 governo austro-húngaro suspendeu as ordenações, pelo que, no ano de 1836, J
 oão emigrou para os Estados Unidos, com o objectivo de empreender trabalho 
 missionário. Foi ordenado três semanas depois de ter chegado a Manhattan e 
 juntou-se à Ordem Redentorista.\n\n\nEm 1848 naturalizou-se e foi nomeado b
 ispo de Filadélfia em 1852. Enquanto exerceu foi levado a cabo um programa 
 intensivo de construções, o que resultou na finalização da Catedral de Balt
 imore e na criação de quase cem igrejas e oitenta escolas na pensilvânia e 
 no Delaware.\n\n\n\n\n\nNascimento: ano 1811 d.C., Boémia, atual República 
 Checa\n\n\nMorte: ano 1860 d.C., Filadélfia, Pensilvânia, EUA\n
DTSTAMP:20260420T121738Z
DTSTART;TZID=Europe/Lisbon;VALUE=DATE:20220105
DTEND;TZID=Europe/Lisbon;VALUE=DATE:20220106
SEQUENCE:0
TRANSP:OPAQUE
END:VEVENT
END:VCALENDAR