BEGIN:VCALENDAR
VERSION:2.0
PRODID:-//jEvents 2.0 for Joomla//EN
CALSCALE:GREGORIAN
METHOD:PUBLISH
BEGIN:VTIMEZONE
TZID:Europe/Lisbon
END:VTIMEZONE
BEGIN:VEVENT
UID:c3d582f71b4c3e5a9e5672149b37c38c
CATEGORIES:Santos
SUMMARY:Beato André de Peschiera
DESCRIPTION;ENCODING=QUOTED-PRINTABLE:\n\nO beato André de Peschiera nasceu no ano1400 em Peschiera del Garda, It
 ália e faleceu a 18 de Janeiro de 1485 d.C., em Valtellina, Itália. Foi um 
 frade dominicano italino. \n\n\nAndré de Peschiera cresceu perto de Peschie
 ra del Garda, em Itália e era conhecido como uma criança piedosa e muito re
 ligiosa. Ainda novo, o Beato André de Peschiera teve o desejo de se tornar 
 um eremita e tentou em casa do seu pai levar um tipo de vida monástico.\n\n
 \nQuando o pai faleceu, o Beato André de Peschiera, tinha 15 anos e entrou 
 para a ordem dos Pregadores, no convento de Bréscia. \n\n\nBeato André de P
 eschiera estudou no convento de São Marcos, em Florença, juntamente com San
 to Antonino de Florença, o Beato Lourenço de Riprafratta, o Beato Constanti
 us e o Beato António della Chiesa.\n\n\nAndré de Peschiera pregou durante 4
 5 anos, como frade itinerante pela região de Valtellina, nos Alpes Italiano
 s, viajando a pé, e vivendo com os mais pobres e necessitados. O Beato Andr
 é de Peschiera fundou hospitais, igrejas, escolas e orfanatos.\n\n\nVeio a 
 falecer no convento de Morbegno, Valtellina.\n Foi beatificado no ano de 18
 20.\n\n\n\n\n\n \n
DTSTAMP:20260420T030901Z
DTSTART;TZID=Europe/Lisbon;VALUE=DATE:20220119
DTEND;TZID=Europe/Lisbon;VALUE=DATE:20220120
SEQUENCE:0
TRANSP:OPAQUE
END:VEVENT
END:VCALENDAR