BEGIN:VCALENDAR
VERSION:2.0
PRODID:-//jEvents 2.0 for Joomla//EN
CALSCALE:GREGORIAN
METHOD:PUBLISH
BEGIN:VTIMEZONE
TZID:Europe/Lisbon
END:VTIMEZONE
BEGIN:VEVENT
UID:0bb22a9116a7ead6e313f3c038ba1402
CATEGORIES:Santos
SUMMARY:São. Gerardo Majela
DESCRIPTION;ENCODING=QUOTED-PRINTABLE:<p>religiosa</p>
DTSTAMP:20260419T212244Z
DTSTART;TZID=Europe/Lisbon;VALUE=DATE:20221016
DTEND;TZID=Europe/Lisbon;VALUE=DATE:20221017
SEQUENCE:0
TRANSP:OPAQUE
END:VEVENT
END:VCALENDAR