BEGIN:VCALENDAR
VERSION:2.0
PRODID:-//jEvents 2.0 for Joomla//EN
CALSCALE:GREGORIAN
METHOD:PUBLISH
BEGIN:VTIMEZONE
TZID:Europe/Lisbon
BEGIN:STANDARD
DTSTART:20180118T000000
RDATE:20180325T020000
TZOFFSETFROM:+0100
TZOFFSETTO:+0000
TZNAME:Europe/Lisbon WET
END:STANDARD
BEGIN:STANDARD
DTSTART:20181028T010000
RDATE:20190331T020000
TZOFFSETFROM:+0100
TZOFFSETTO:+0000
TZNAME:Europe/Lisbon WET
END:STANDARD
BEGIN:STANDARD
DTSTART:20191027T010000
RDATE:20200329T020000
TZOFFSETFROM:+0100
TZOFFSETTO:+0000
TZNAME:Europe/Lisbon WET
END:STANDARD
BEGIN:STANDARD
DTSTART:20201025T010000
RDATE:20210328T020000
TZOFFSETFROM:+0100
TZOFFSETTO:+0000
TZNAME:Europe/Lisbon WET
END:STANDARD
BEGIN:DAYLIGHT
DTSTART:20180325T020000
RDATE:20181028T010000
TZOFFSETFROM:+0000
TZOFFSETTO:+0100
TZNAME:Europe/Lisbon WEST
END:DAYLIGHT
BEGIN:DAYLIGHT
DTSTART:20190331T020000
RDATE:20191027T010000
TZOFFSETFROM:+0000
TZOFFSETTO:+0100
TZNAME:Europe/Lisbon WEST
END:DAYLIGHT
BEGIN:DAYLIGHT
DTSTART:20200329T020000
RDATE:20201025T010000
TZOFFSETFROM:+0000
TZOFFSETTO:+0100
TZNAME:Europe/Lisbon WEST
END:DAYLIGHT
END:VTIMEZONE
BEGIN:VEVENT
UID:fb3286f679dc8dcb3572f8ee8e9d328c
CATEGORIES:Santos
SUMMARY:Beatos José Imbert, João Nicolau Cordier, Tiago Bonnaud e companheiros
DESCRIPTION;ENCODING=QUOTED-PRINTABLE:Beato Tiago Bonnaud\nAbandonando a intenção original de corrigir os erros q
 ue as pessoas sofreram com as autoridades aristocráticas, a revolução franc
 esa transformou-se numa perseguição anti-católica. Em 1789, a Assembleia Na
 cional decidiu disponibilizar à população as propriedades da Igreja, e no a
 no seguinte reprimiu votos religiosos e proibiu as ordens religiosas de ace
 itar novos membros. Depois, a Assembleia votou a Constituição Civil do cler
 o, que obrigou os sacerdotes a jurar lealdade à constituição e que criou um
 a igreja nacional independente do papa. Se os padres se recusassem a presta
 r juramento, eles acusados de perturbar a paz.\nA tensão que prevaleceu pio
 rou quando a Prússia e a Áustria invadiram a França para se protegerem da r
 evolução. A 9 de Agosto de 1792, os rebeldes prenderam a família real e sup
 rimiram a monarquia. Em 26 de Agosto, a assembleia declarou que o clero que
  se recusasse a prestar juramento seria deportado para a América do Sul. Qu
 ando a Comuna tomou o controle de Paris, os revolucionários viajaram pela c
 idade em busca de sacerdotes, para os prenderem. Por fim, o Comissário Stan
 islas Maillard mandou simplesmente matar os sacerdotes, porque os invasores
  prussianos estavam a 150 milhas de Paris. \nO Comissário Stanislas Maillar
 d começou com a Abadia de Saint-Germain-des-Pres, onde 21 sacerdotes foram 
 massacrados. Depois seguiu para o mosteiro dos Carmelitas, onde 95 sacerdot
 es foram martirizados. A maioria dos sacerdotes estava na capela, e foram l
 evados de dois em dois e convidados a assinar o juramento de fidelidade à C
 onstituição Civil do clero. Quando recusavam, eram empurrados ​​pelas escad
 as da capela e entregues a uma multidão que os esperava para os atacar com 
 sabres, baionetas, clubes e rifles.\n \n \nBeato José Imbert\nO Beato José 
 Imbert nasceu por volta do ano 1720 e faleceu em 1794. Beato José Imbert fo
 i um dos sacerdotes mortos pela Revolução Francesa; ele morreu em um antigo
  navio escravo, que deveria levar os sacerdotes deportados para a África, m
 as que nunca partiu. \nO padre José Imbert nasceu em Marselha, França, e en
 trou no noviciado em Avignon. Depois de ter sido ordenado sacerdote em Gren
 oble, ensinou em três faculdades jesuítas. Beato José Imbert estava em Gren
 oble quando a Companhia foi abolida em 1762. Depois entrou na diocese de Mo
 ulins, mas foi forçado a abandonar sua paróquia quando se recusou a assinar
  a Constituição Civil do Clero. Então, em vez de fugir da França, ele perma
 neceu a celebrar escondido. Foi nomeado vigário apostólico quando o bispo f
 oi expulso. Como o mais alto clérigo da região no momento o Beato José Imbe
 rt tornou-se o alvo do Reinado do Terror (período compreendido entre 5 de S
 etembro de 1793 e 27 de Julho de 1794) e foi preso em 1793.\n No início do 
 ano seguinte, ele e 24 sacerdotes da diocese foram levados para os navios d
 a prisão que os levariam para a África. Os sacerdotes que chegaram a Rochef
 ort foram presos em hospitais, conventos e mosteiros em desuso, e em dois p
 equenos navios ancorados na foz do rio Charente. Em 13 de Novembro, Imbert 
 foi levado para o navio "Deux-Associés", ancorado perto de uma ilha fortifi
 cada ao largo da foz do rio. O septuagenário subiu a escada com dificuldade
  e, ao mesmo tempo que os outros prisioneiros, foi obrigado a desistir de s
 eu rosário, seu breviário e outros objetos de piedade.\nNo início de maio, 
 o capitão do navio recusou-se a aceitar outros prisioneiros, porque já tinh
 a 400 prisioneiros empilhados nos decks inferiores que tinham sido destinad
 os ao transporte dos escravos. Muitos sacerdotes ficaram doentes por causa 
 do alimento podre e das condições de vida infectadas. O Beato José Imbert f
 oi um dos primeiros a adoecer, porque já estava doente quando chegou a bord
 o; ele provavelmente teve tifo e morreu apenas dois meses depois. \n \nBeat
 o João Nicolau Cordier\nO Beato João Nicolau Cordier nasceu no ano de 1710 
 e faleceu no ano de 1794. Sobreviveu à Revolução Francesa mas foi vítima de
  violência durante o Reinado do Terror. \nBeato João Nicolau Cordier nasceu
  em Souilly, França. Entrou nos jesuítas em 1728, estudou filosofia, antes 
 de ensinar nas faculdades de Dijon, Auxerre e Autun. Depois do final dos se
 us estudos em teologia, ensinou filosofia em Estrasburgo e teologia em Pont
 -à-Mousson. Mais tarde foi prefeito de estudos e superior à residência jesu
 íta de Saint Mihiel, onde permaneceu como capelão de um convento de irmãs a
 pós a supressão da Companhia.\nEm 1790, o governo suprimiu todas as ordens 
 religiosas na França, e o Beato João Nicolau Cordier aceitou a hospitalidad
 e do cônsul Georges-François Steinhoff em Verdun. Apesar de ter uma idade a
 vançada, O Beato João Cordier foi preso em 28 de Outubro de 1793 e condenad
 o à deportação. Esteve preso seis meses antes de se juntar a um comboio de 
 prisioneiros-sacerdotes, que foram levados para Rochefort para depor para a
  África. Em 19 de Junho, este padre idoso foi a bordo do "Washington", um e
 x-navio de escravidão, que nunca partiu para o mar porque os ingleses bloqu
 eavam a costa francesa.\n Os deportados sofreram sofrimentos horríveis no n
 avio. Durante o dia, foram autorizados a ir para a ponte, mas o espaço que 
 tinham era tão pequeno que apenas conseguiam ficar uns contra os outros. Co
 miam apenas uma vez por dia e a refeição era feijão cozido, pão e batatas. 
 Todas as noites morriam sacerdotes.\nNo final, os navios foram movidos a mo
 ntante no rio, e um hospital improvisado foi estabelecido numa ilha do cana
 l. Quando o beato Cordier ficou doente, foi transportado para o hospital, o
  que foi uma melhoria em relação ao barco. \nO Beato João Nicolau Cordier m
 orreu no hospital e foi enterrado na areia juntamente com mais 253 vítimas\
 n \n\n\nForam beatificados a 17 de outubro de 1926.\n
DTSTAMP:20260420T023315Z
DTSTART;TZID=Europe/Lisbon;VALUE=DATE:20190119
DTEND;TZID=Europe/Lisbon;VALUE=DATE:20190120
SEQUENCE:0
TRANSP:OPAQUE
END:VEVENT
END:VCALENDAR