BEGIN:VCALENDAR
VERSION:2.0
PRODID:-//jEvents 2.0 for Joomla//EN
CALSCALE:GREGORIAN
METHOD:PUBLISH
BEGIN:VTIMEZONE
TZID:Europe/Lisbon
END:VTIMEZONE
BEGIN:VEVENT
UID:6c8ca3b4b299b6494f530dadc3ab6e2b
CATEGORIES:Santos
SUMMARY:São Daniel e companheiros
DESCRIPTION;ENCODING=QUOTED-PRINTABLE:
DTSTAMP:20260419T212244Z
DTSTART;TZID=Europe/Lisbon;VALUE=DATE:20221010
DTEND;TZID=Europe/Lisbon;VALUE=DATE:20221011
SEQUENCE:0
TRANSP:OPAQUE
END:VEVENT
END:VCALENDAR