BEGIN:VCALENDAR
VERSION:2.0
PRODID:-//jEvents 2.0 for Joomla//EN
CALSCALE:GREGORIAN
METHOD:PUBLISH
BEGIN:VTIMEZONE
TZID:Europe/Lisbon
BEGIN:STANDARD
DTSTART:20160119T000000
RDATE:20160327T020000
TZOFFSETFROM:+0100
TZOFFSETTO:+0000
TZNAME:Europe/Lisbon WET
END:STANDARD
BEGIN:STANDARD
DTSTART:20161030T010000
RDATE:20170326T020000
TZOFFSETFROM:+0100
TZOFFSETTO:+0000
TZNAME:Europe/Lisbon WET
END:STANDARD
BEGIN:STANDARD
DTSTART:20171029T010000
RDATE:20180325T020000
TZOFFSETFROM:+0100
TZOFFSETTO:+0000
TZNAME:Europe/Lisbon WET
END:STANDARD
BEGIN:STANDARD
DTSTART:20181028T010000
RDATE:20190331T020000
TZOFFSETFROM:+0100
TZOFFSETTO:+0000
TZNAME:Europe/Lisbon WET
END:STANDARD
BEGIN:STANDARD
DTSTART:20191027T010000
RDATE:20200329T020000
TZOFFSETFROM:+0100
TZOFFSETTO:+0000
TZNAME:Europe/Lisbon WET
END:STANDARD
BEGIN:STANDARD
DTSTART:20201025T010000
RDATE:20210328T020000
TZOFFSETFROM:+0100
TZOFFSETTO:+0000
TZNAME:Europe/Lisbon WET
END:STANDARD
BEGIN:DAYLIGHT
DTSTART:20160327T020000
RDATE:20161030T010000
TZOFFSETFROM:+0000
TZOFFSETTO:+0100
TZNAME:Europe/Lisbon WEST
END:DAYLIGHT
BEGIN:DAYLIGHT
DTSTART:20170326T020000
RDATE:20171029T010000
TZOFFSETFROM:+0000
TZOFFSETTO:+0100
TZNAME:Europe/Lisbon WEST
END:DAYLIGHT
BEGIN:DAYLIGHT
DTSTART:20180325T020000
RDATE:20181028T010000
TZOFFSETFROM:+0000
TZOFFSETTO:+0100
TZNAME:Europe/Lisbon WEST
END:DAYLIGHT
BEGIN:DAYLIGHT
DTSTART:20190331T020000
RDATE:20191027T010000
TZOFFSETFROM:+0000
TZOFFSETTO:+0100
TZNAME:Europe/Lisbon WEST
END:DAYLIGHT
BEGIN:DAYLIGHT
DTSTART:20200329T020000
RDATE:20201025T010000
TZOFFSETFROM:+0000
TZOFFSETTO:+0100
TZNAME:Europe/Lisbon WEST
END:DAYLIGHT
END:VTIMEZONE
BEGIN:VEVENT
UID:e257eb571d7491dde9a7e549cfde0c73
CATEGORIES:Santos
SUMMARY:Beatos Tiago Sales e Guilherme Saultemouche
DESCRIPTION;ENCODING=QUOTED-PRINTABLE:\n\n \n\n\n\nBeatos Tiago Sales e Guilherme Saultmouche eram os dois france
 ses os dois. Beato Tiago Sales nasceu no ano 1556 no seio de uma família mo
 desta. Em criança já mostrava amor excepcional pela oração. Os seus triunfo
 s como professor também não conseguiram diminuir sua humildade.\nFoi ordena
 do presbítero (padre) e o seu amor ao Santíssimo inspirava-o constantemente
 . Numa época conturbada - a França estava mergulhada num período de guerras
  religiosas - desenvolveu um brilhante tratado sobre a Eucaristia. Redigiu 
 um caderno no qual precisava a doutrina católica, fortemente contestada pel
 os hereges, e entregou o manuscrito aos ministros protestantes de Aubenas. 
 Foi preso, torturado e morto. O dogma da Eucaristia foi o motivo mais explí
 cito do martírio.\nO Beato Guilherme Saultmouche nasceu em 1557. Era um rel
 igioso jesuíta, que acompanhava o padre Tiago Sales quando este foi preso. 
 Beato Guilherme Saultmouche poderia ter escapado mas preferiu o martírio di
 zendo que lhe parecia pecado se assim não o fizesse.  \nForam mortos a 7 de
  Fevereiro de 1593 e beatificados pelo Papa Pio XI a 6 de Junho de 1926.\n
DTSTAMP:20260419T193216Z
DTSTART;TZID=Europe/Lisbon;VALUE=DATE:20170119
DTEND;TZID=Europe/Lisbon;VALUE=DATE:20170120
SEQUENCE:0
TRANSP:OPAQUE
END:VEVENT
END:VCALENDAR