BEGIN:VCALENDAR
VERSION:2.0
PRODID:-//jEvents 2.0 for Joomla//EN
CALSCALE:GREGORIAN
METHOD:PUBLISH
BEGIN:VTIMEZONE
TZID:Europe/Lisbon
BEGIN:STANDARD
DTSTART:20200102T000000
RDATE:20200329T020000
TZOFFSETFROM:+0100
TZOFFSETTO:+0000
TZNAME:Europe/Lisbon WET
END:STANDARD
BEGIN:STANDARD
DTSTART:20201025T010000
RDATE:20210328T020000
TZOFFSETFROM:+0100
TZOFFSETTO:+0000
TZNAME:Europe/Lisbon WET
END:STANDARD
BEGIN:DAYLIGHT
DTSTART:20200329T020000
RDATE:20201025T010000
TZOFFSETFROM:+0000
TZOFFSETTO:+0100
TZNAME:Europe/Lisbon WEST
END:DAYLIGHT
END:VTIMEZONE
BEGIN:VEVENT
UID:d368dd580df5a9fa4fb9a3fce4b9cc60
CATEGORIES:Santos
SUMMARY:São Basílio, o Grande
DESCRIPTION;ENCODING=QUOTED-PRINTABLE:\n\n\n\n\n \nSão Basílio, nasceu no ano de 330 na Capadócia, actual Turquia
  e faleceu no ano de 379 em Cesareia, Capadócia. São Basílio nasceu no seio
  duma família profundamente cristã. Os seus pais são reverenciados como san
 tos nas Igrejas ortodoxas orientais. \nRecebeu a instrução primária em casa
 , tendo depois estudado em Constantinopla (atualmente Istambul) e Atenas, o
 nde conheceu Gregório Nazianzeno (santo celebrado também neste dia - http:/
 /www.paroquia-almancil.pt/utilidades/vida-dos-santos/icalrepeat.detail/2018
 /01/02/178/-/s-greg%C3%B3rio-nazianzeno-nazia\nnzo.html). \nAmbos se juntar
 am a uma comunidade cristã no Ponto, onde Basílio desenvolveu os seus ensin
 amentos sobre o monasticismo.\nViria a ser ordenado por volta do ano 362 e 
 regressou a Cesareia, onde desenvolveu um argumento teológico contra o aria
 nismo, na altura o credo do imperador romano Valente. No ano de 379, Basíli
 o sucedeu a Eusébio como bispo de Cesareia. Os seus argumentos em defesa do
  Concílio de Niceia de 325 foram favoravelmente apresentados por Gregório N
 azianzeno no Concílio de Constantinopla de 381, após a morte prematura de B
 asílio.\n
DTSTAMP:20260420T074744Z
DTSTART;TZID=Europe/Lisbon;VALUE=DATE:20210102
DTEND;TZID=Europe/Lisbon;VALUE=DATE:20210103
SEQUENCE:0
TRANSP:OPAQUE
END:VEVENT
END:VCALENDAR