BEGIN:VCALENDAR
VERSION:2.0
PRODID:-//jEvents 2.0 for Joomla//EN
CALSCALE:GREGORIAN
METHOD:PUBLISH
BEGIN:VTIMEZONE
TZID:Europe/Lisbon
BEGIN:STANDARD
DTSTART:20181224T000000
RDATE:20190331T020000
TZOFFSETFROM:+0100
TZOFFSETTO:+0000
TZNAME:Europe/Lisbon WET
END:STANDARD
BEGIN:STANDARD
DTSTART:20191027T010000
RDATE:20200329T020000
TZOFFSETFROM:+0100
TZOFFSETTO:+0000
TZNAME:Europe/Lisbon WET
END:STANDARD
BEGIN:STANDARD
DTSTART:20201025T010000
RDATE:20210328T020000
TZOFFSETFROM:+0100
TZOFFSETTO:+0000
TZNAME:Europe/Lisbon WET
END:STANDARD
BEGIN:DAYLIGHT
DTSTART:20190331T020000
RDATE:20191027T010000
TZOFFSETFROM:+0000
TZOFFSETTO:+0100
TZNAME:Europe/Lisbon WEST
END:DAYLIGHT
BEGIN:DAYLIGHT
DTSTART:20200329T020000
RDATE:20201025T010000
TZOFFSETFROM:+0000
TZOFFSETTO:+0100
TZNAME:Europe/Lisbon WEST
END:DAYLIGHT
END:VTIMEZONE
BEGIN:VEVENT
UID:fe6718c28d7c5a1bf612796df1057e9f
CATEGORIES:Santos
SUMMARY:Santa Anastácia
DESCRIPTION;ENCODING=QUOTED-PRINTABLE:\n\nSanta Anastácia também é conhecida como Anastácia de Sirmio ou Anastáci
 a, a Curandeira. Nada se sabe em relação à data ou local do nascimento de S
 anta Anastácia. Em relação ao seu falecimento, sabe-se que morreu a 25 de D
 ezembro de 304 em Sirmio.\nSanta Anastácia era filha de Protestato e Fausta
 , ambos romanos e pagãos, e uma jovem belíssima. Junto com sua mãe, foi con
 vertida à fé cristã pelo seu professor São Crisogono. As duas dedicavam-se 
 a ajudar os pobres e a converter os pagãos.\nCom a morte da mãe, o pai impô
 s a Santa Anastácia, o casamento com Públio, um rico pagão da nobreza roman
 a. Mesmo contra vontade, Santa Anastácia casou-se. Logo o marido a proibiu 
 de envolver-se com qualquer tipo de atividade, como era de costume entre as
  damas da sociedade. Mas Santa Anastácia continuou a ajudar os pobres às es
 condidas e, quando o marido foi informado, puniu-a com crueldade. Foi proib
 ida de sair de casa. Naquele momento, o consolo veio por meio dos conselhos
  do professor Crisogono, que já era perseguido e acabou por ser preso.\nO m
 arido de Santa Anastácia, Públio, foi nomeado pelo imperador Diocleciano em
 baixador na Pérsia. Partiu deixando Santa Anastácia sob a guarda de Codizo,
  homem cruel que tinha ordem de deixá-la morrer lentamente. Logo chegou a n
 otícia da morte súbita de Públio. \nSanta Anastácia foi libertada e soube q
 ue seu conselheiro, Crisogono, seria transferido para o julgamento na Corte
  imperial de Aquiléia. Santa Anastácia acompanhou São Crisogono na viagem e
  assistiu ao interrogatório e, depois, à sua decapitação.\nCada vez mais fi
 rme na fé, Santa Anastácia voltou a prestar caridade aos pobres e a pregar 
 o evangelho de Cristo. Suspeita de ser cristã, foi levada à presença do pre
 feito de Roma, que tentou fazê-la renunciar à sua religião. Também o própri
 o imperador Diocleciano tentou convencê-la, mas tudo inútil. Anastácia volt
 ou para a prisão.\nEm seguida, Diocleciano partiu para a Macedónia, levando
  consigo os prisioneiros cristãos. Da Macedônia foram para Esmirna, na Dalm
 ácia, atual Turquia. \nLá, outros cristãos denunciados foram presos. Entre 
 eles estavam a matrona Teodora e seus três filhos, depois também santos da 
 Igreja.  Santa Anastácia dispensava-lhes especial atenção.\nOs carcereiros 
 informaram o imperador, que mandou prender Santa Anastácia durante um mês n
 o pior dos regimes carcerários. No fim do período, ela estava mais bela do 
 que antes, e ainda mais firme na sua fé. Inconformado, o imperador entregou
 -a para ser morta junto com os outros presos cristãos. \nSanta Anastácia mo
 rreu queimada viva, no dia 25 de dezembro de 304, em Esmirna.\nÉ recordada 
 no dia da sua morte, na missa do período da tarde, em virtude da festa do N
 atal de Jesus Cristo.\n \nSanta Anastácia rogai por nós!\n
DTSTAMP:20260419T165930Z
DTSTART;TZID=Europe/Lisbon;VALUE=DATE:20191225
DTEND;TZID=Europe/Lisbon;VALUE=DATE:20191226
SEQUENCE:0
TRANSP:OPAQUE
END:VEVENT
END:VCALENDAR