BEGIN:VCALENDAR
VERSION:2.0
PRODID:-//jEvents 2.0 for Joomla//EN
CALSCALE:GREGORIAN
METHOD:PUBLISH
BEGIN:VEVENT
UID:f8fca7b27ce9bd163e8d5d445ea05b32
CATEGORIES:Santos
SUMMARY:Beato Pedro Fabro
DESCRIPTION;ENCODING=QUOTED-PRINTABLE:
DTSTAMP:20260423T210157Z
DTSTART;TZID=Europe/Lisbon;VALUE=DATE:20400802
DTEND;TZID=Europe/Lisbon;VALUE=DATE:20400803
SEQUENCE:0
TRANSP:OPAQUE
END:VEVENT
END:VCALENDAR