BEGIN:VCALENDAR
VERSION:2.0
PRODID:-//jEvents 2.0 for Joomla//EN
CALSCALE:GREGORIAN
METHOD:PUBLISH
BEGIN:VTIMEZONE
TZID:Europe/Lisbon
BEGIN:STANDARD
DTSTART:20181230T000000
RDATE:20190331T020000
TZOFFSETFROM:+0100
TZOFFSETTO:+0000
TZNAME:Europe/Lisbon WET
END:STANDARD
BEGIN:STANDARD
DTSTART:20191027T010000
RDATE:20200329T020000
TZOFFSETFROM:+0100
TZOFFSETTO:+0000
TZNAME:Europe/Lisbon WET
END:STANDARD
BEGIN:STANDARD
DTSTART:20201025T010000
RDATE:20210328T020000
TZOFFSETFROM:+0100
TZOFFSETTO:+0000
TZNAME:Europe/Lisbon WET
END:STANDARD
BEGIN:DAYLIGHT
DTSTART:20190331T020000
RDATE:20191027T010000
TZOFFSETFROM:+0000
TZOFFSETTO:+0100
TZNAME:Europe/Lisbon WEST
END:DAYLIGHT
BEGIN:DAYLIGHT
DTSTART:20200329T020000
RDATE:20201025T010000
TZOFFSETFROM:+0000
TZOFFSETTO:+0100
TZNAME:Europe/Lisbon WEST
END:DAYLIGHT
END:VTIMEZONE
BEGIN:VEVENT
UID:7511b713439fd50e06ca926b9daa94bc
CATEGORIES:Santos
SUMMARY:São Silvestre I
DESCRIPTION;ENCODING=QUOTED-PRINTABLE:\n\nSão Silvestre I nasceu em Roma no ano de 285 e faleceu a 31 de Dezembro
  de 335. São Silvestre era filho de uma mulher chamada Justa, e foi instruí
 do pelo presbítero Ciriano, que lhe ensinou a praticar a hospitalidade com 
 grande zelo. Assim S. Silvestre recebeu em sua casa um homem muito cristão,
  chamado Timóteo, que todos evitavam por causa da perseguição que sofria. T
 imóteo ficou na casa de S. Silvestre um ano e três meses até ser martirizad
 o por anunciar com zelo perseverante a fé em Cristo. O prefeito Tarquínio, 
 pensando que Timóteo era rico, exigiu que São Silvestre entregasse os supos
 tos bens do amigo, sob pena de morte se não o fizesse.\nFrustrado por ver q
 ue Timóteo não possuía riquezas, o prefeito Tarquínio mandou que São Silves
 tre oferecesse sacrifícios aos ídolos, senão condená-lo-ia no dia seguinte,
  a diversos géneros de suplícios. São Silvestre disse-lhe então: &ldquo;Ins
 ensato, você morrerá esta noite, depois sofrerá tormentos eternos e assim, 
 quer queira, quer não, reconhecerá o verdadeiro Deus que adoramos&rdquo;. S
 ão Silvestre foi preso e Tarquínio foi convidado para um jantar. Ao comer, 
 ficou engasgado com uma espinha de peixe e acabou por morrer à meia-noite. 
 São Silvestre, que era amado tanto pelos cristãos quanto pelos pagãos, foi 
 libertado para grande alegria de todos.\nEm 314, por voto unânime do povo e
  do clero foi proposto para ocupar a cadeira de São Pedro, como sucessor do
  papa Melquíades.  \nNa época a Igreja tinha deixado de sofrer as sanguinár
 ias perseguições e saído da clandestinidade, no século IV, sob o império do
  imperador bizantino Constantino, que se converteu à fé em Cristo. Desse mo
 do, o cristianismo expandiu-se livremente, tendo no comando da Igreja um pa
 pa à altura para estruturá-lo como uma organização eclesiástica duradoura.\
 nNo entanto, embora o imperador Constantino tenha deixado florescer a semen
 te plantada pelos apóstolos de Jesus, após anos de perseguições e ter feito
  tantos mártires, o cristianismo ainda não estava em completa paz.\nDuas te
 rríveis heresias se levantaram contra a Igreja, arrastando-a para uma luta 
 gigantesca de quase um século de duração. \nA primeira heresia ficou conhec
 ida como a dos Donatistas. A Igreja, ensinavam eles, deve compor-se só de j
 ustos; no momento em que são tolerados pecadores, deixa de ser a Igreja de 
 Cristo. Assim, diziam que o batismo administrado por um sacerdote em estado
  de pecado era inválido. Se um bispo, estiver em pecado não pode crismar ne
 m ordenar sacerdotes.  Caso o faça, estes sacramentos são inválidos.  \nA o
 utra heresia teve origem na pregação do sacerdote Ario, da Igreja de Antioq
 uia.  Este dizia que a Jesus Cristo, faltavam as atribuições divinas; isto 
 é, não era consubstancial ao Pai, portanto não era Deus, mas mera criatura,
  de essência diversa da do Pai e de natureza mutável. \nO imperador Constan
 tino considerava-se o legítimo representante da divindade (nunca renunciou 
 ao título pagão de &ldquo;Pontífice Máximo&rdquo;), e logo também do Deus d
 os cristãos e por isso encarregado de controlar a Igreja como qualquer outr
 a organização religiosa. Assim foi o imperador Constantino e não o papa Sil
 vestre, que convocou no ano 314 um sínodo para sanar um cisma irrompido na 
 África (Donatistas), e foi ele ainda que, em 325, convocou o primeiro concí
 lio Ecumênico da história, em Niceia, para lutar contra a heresia de Ario. 
 Neste concílio compareceram 317 bispos. \nSão Silvestre não pode estar pres
 ente, (devido à sua idade, segundo algumas fontes) e fez-se representar pel
 o bispo Ósio de Córdoba e por dois sacerdotes da sua inteira confiança.\nO 
 concílio terminou com a proclamação ação dogmática da fórmula: "O Filho é c
 onsubstancial ao Pai; é Deus de Deus; Deus verdadeiro de  Deus Verdadeiro; 
  gerado, não feito, da mesma  substância  com o Pai", que o Papa Silvestre 
 ratificou em Roma.  Esta cerimônia de ratificação, teve lugar diante da ima
 gem de  Nossa Senhora  Alegria dos Cristãos, cujo altar, em sinal de gratid
 ão à Maria Santíssima o Papa mandara erigir logo que as perseguições tinham
  chegado ao seu termo.   \nO imperador Constantino, parte no ano seguinte p
 ara as margens do Bósforo (limite dos continentes europeu e asiático, na Tu
 rquia) onde, em 330, inaugura Constantinopla. Nessa altura ocorre a chamada
  doação constantiniana, mediante a qual o Imperador entrega à Igreja, na pe
 ssoa de S. Silvestre, a Domus Faustae, Casa de Fausta, sua esposa, ou palác
 io imperial de Latrão (residência papal até Leão XI), junto ao qual se ergu
 eria uma grandiosa basílica de cinco naves, dedicada a Cristo Salvador e ma
 is tarde a S. João Batista e S. João Evangelista (futura e atual catedral e
 piscopal de Roma, S. João de Latrão). Constantino deu ainda um forte apoio 
 financeiro para a construção de valiosos edifícios eclesiásticos, tais como
  a Basílica de São Pedro, no Vaticano (Roma), e a Basílica de São Paulo For
 a de Muros, ambas mandadas construir por São Silvestre I.\nMais tarde, o im
 perador Constantino doaria igualmente a própria cidade, não por causa da su
 a conversão ou por interferência de sua mãe Santa Helena (http://www.paroqu
 ia-almancil.pt/utilidades/vida-dos-santos/icalrepeat.detail/2017/08/18/1808
 2/-/s-helena.html) mas devido ao trabalho do papa Silvestre I.\nDurante o s
 eu Pontificado, o Papa Silvestre governou a Igreja de Deus dando sobejas pr
 ovas de prudência e sabedoria, glorificando-a com as virtudes de uma vida s
 anta e apostólica.\nFaleceu a 31 de Dezembro de 335.\n \nNeste último dia d
 o ano, agradeçamos a Deus pelo ano que passou e peça pelo que se inicia, e 
 por intercessão de São Silvestre, digamos:\n \nDeus, nosso Pai, hoje é o úl
 timo dia do ano. Nós vos agradecemos todas as graças que nos concedestes at
 ravés dos vossos santos. E hoje pedimos a São Silvestre que interceda a vós
  por nós! Perdoai as nossas faltas, o nosso pecado e dai-nos a graça da con
 tínua conversão.\nRenovai as nossas esperanças, fortalecei a nossa fé, abri
  a nossa mente e os nossos corações, não nos deixeis acomodar em nossas pos
 ições conquistadas, mas, como povo peregrino, caminhemos sem cessar rumo ao
 s Novos Céus e à Nova Terra a nós prometidos. Senhor, Deus nosso Pai, que o
  Vosso Espírito Santo, o Dom de Jesus Ressuscitado, nos mova e nos faça cla
 mar hoje e sempre &ldquo;Abba! Pai!&rdquo;\nVenha a nós o vosso Reino de pa
 z e de justiça. Renovai a face da Terra, criai no homem um coração novo! Am
 ém.\n
DTSTAMP:20260419T170015Z
DTSTART;TZID=Europe/Lisbon;VALUE=DATE:20191231
DTEND;TZID=Europe/Lisbon;VALUE=DATE:20200101
SEQUENCE:0
TRANSP:OPAQUE
END:VEVENT
END:VCALENDAR