BEGIN:VCALENDAR
VERSION:2.0
PRODID:-//jEvents 2.0 for Joomla//EN
CALSCALE:GREGORIAN
METHOD:PUBLISH
BEGIN:VTIMEZONE
TZID:Europe/Lisbon
END:VTIMEZONE
BEGIN:VEVENT
UID:db682cfe40131fc57cb99783333622bf
CATEGORIES:Santos
SUMMARY:Mártires de Nicomedia
DESCRIPTION;ENCODING=QUOTED-PRINTABLE:\n\nA Igreja celebra hoje os mártires de Nicomedia. Estes mártires são cris
 tãos que foram martirizados em Nicomedia (actual Turquia), durante o reinad
 o dos imperadores Diocleciano e Maximiano, no início do século IV.\nMuitos 
 dos que foram executados - homens, mulheres e crianças - foram condenados à
  pena de morte, enquanto outros foram queimados vivos numa igreja cristã, d
 e acordo com os relatos.\nRelativamente aos que foram queimados vivos na ig
 reja, este facto ocorreu na noite de Natal do ano 303. Os cristãos estavam 
 reunidos para celebrar o nascimento de Jesus Cristo, quando um grupo de idó
 latras a mando do imperador Diocleciano ateou fogo à volta da igreja, imped
 ido que os que estavam reunidos no seu interior pudessem sair.\nDepois um m
 ensageiro do imperador afirmou de modo que pudesse ser ouvido no interior d
 a igreja que todo aquele que quisesse livrar-se do fogo, deveria sair pela 
 porta principal a oferecer incenso a Júpiter. Quando os que estavam no inte
 rior da igreja, declararam que estavam prontos a morrer por Cristo, a fogue
 ira foi alimentada com ramos secos, até que todos os que estavam na igreja 
 morreram.\n
DTSTAMP:20260420T053236Z
DTSTART;TZID=Europe/Lisbon;VALUE=DATE:20231228
DTEND;TZID=Europe/Lisbon;VALUE=DATE:20231229
SEQUENCE:0
TRANSP:OPAQUE
END:VEVENT
END:VCALENDAR