BEGIN:VCALENDAR
VERSION:2.0
PRODID:-//jEvents 2.0 for Joomla//EN
CALSCALE:GREGORIAN
METHOD:PUBLISH
BEGIN:VTIMEZONE
TZID:Europe/Lisbon
BEGIN:STANDARD
DTSTART:20201227T000000
RDATE:20210328T020000
TZOFFSETFROM:+0100
TZOFFSETTO:+0000
TZNAME:Europe/Lisbon WET
END:STANDARD
END:VTIMEZONE
BEGIN:VEVENT
UID:01e26546406433ad820c252f557a2894
CATEGORIES:Santos
SUMMARY:Santos Inocentes
DESCRIPTION;ENCODING=QUOTED-PRINTABLE:\n\nO Dia dos Santos Inocentes é um dia em que a Igreja honra como mártires
  estas crianças, vítimas do rei Herodes, arrancadas dos braços das suas mãe
 s.\nA origem desta festa é muito antiga. Aparece já no calendário cartaginê
 s do século IV e cem anos mais tarde em Roma no Sacramentário Leonino. Hoje
 , com a nova Reforma Litúrgica, a celebração tem um carácter jubiloso e não
  mais luto, como era antigamente.\nVejamos o que nos narra o Evangelista Ma
 teus no capítulo 2, versículos 16 a 18:\n«Quando Herodes percebeu que fora 
 iludido pelos Magos, encheu-se de grande furor e mandou matar em Belém e no
  seu território todos os meninos de dois anos ou menos, conforme o tempo qu
 e os Magos lhe tinham indicado.\nCumpriu-se então o que o profeta Jeremias 
 anunciara, ao dizer: &ldquo;Ouviu-se uma voz em Ramá, lamentos e gemidos se
 m fim: Raquel chora seus filhos e não quer ser consolada, porque eles já nã
 o existem&rdquo;».\n
DTSTAMP:20260419T202401Z
DTSTART;TZID=Europe/Lisbon;VALUE=DATE:20211228
DTEND;TZID=Europe/Lisbon;VALUE=DATE:20211229
SEQUENCE:0
TRANSP:OPAQUE
END:VEVENT
END:VCALENDAR