BEGIN:VCALENDAR
VERSION:2.0
PRODID:-//jEvents 2.0 for Joomla//EN
CALSCALE:GREGORIAN
METHOD:PUBLISH
BEGIN:VTIMEZONE
TZID:Europe/Lisbon
END:VTIMEZONE
BEGIN:VEVENT
UID:ed4d9140226ed2c6d50c26e9bb7bc628
CATEGORIES:Santos
SUMMARY:São Charbel Makhlouf
DESCRIPTION;ENCODING=QUOTED-PRINTABLE:\n\nSão Charbel Makhlouf nasceu a 8 de Maio de 1828, em Buga-Kafra, aldeia 
 montanhosa do norte do Líbano e faleceu a 16 de Dezembro de 1898 em Annaya 
 (Líbano).\nSão Charbel nasceu no meio duma numerosa família, pobre mas prof
 undamente religiosa. Foi baptizado como José Zaroun Makhlouf. Ficou órfão d
 e pai em tenra idade, desde criança que S. Charbel sentia o chamamento de D
 eus para a vida religiosa. Aos 20 anos entrou no mosteiro da ordem libanesa
  maronita em Maifuc. Três anos depois, no noviciado, recebe o nome de Charb
 el, santo martirizado em Edessa. Um ano depois, transfere-se para o mosteir
 o de S. Maron de Annaya, da província de Jbail, verdadeiro oásis de oração 
 e fé, a 1300 metros de altitude. Foi ordenado sacerdote em 1859, depois de 
 seis anos de estudos teológicos. Exerce, então, com muita edificação, as fu
 nções do seu ministério sagrado, juntamente com toda a sorte de trabalhos m
 anuais. Após dezasseis anos de vida ascética, Charbel obtém autorização, em
  1875, para se retirar ao eremitério dos Santos Pedro e Paulo, de Annaya.\n
 Sua vida religiosa resumia-se à prática da profissão evangélica e austerida
 de, assiduidade na oração e obediência aos superiores. São Charbel não foi 
 pregador nem missionário. Contudo, o seu eremitério era muito procurado par
 a conselho e orientação espiritual. No dia 16 de Dezembro de 1898, no momen
 to da elevação da hóstia e do cálice, sofreu um avc que o levou à morte no 
 dia 24 de Dezembro de 1898.\n \nFoi canonizado pelo Papa Paulo VI a 9 de Ou
 tubro de 1977.\n \nSão Charbel Makhlouf, rogai por nós!\n
DTSTAMP:20260420T163140Z
DTSTART;TZID=Europe/Lisbon;VALUE=DATE:20221224
DTEND;TZID=Europe/Lisbon;VALUE=DATE:20221225
SEQUENCE:0
TRANSP:OPAQUE
END:VEVENT
END:VCALENDAR