BEGIN:VCALENDAR
VERSION:2.0
PRODID:-//jEvents 2.0 for Joomla//EN
CALSCALE:GREGORIAN
METHOD:PUBLISH
BEGIN:VTIMEZONE
TZID:Europe/Lisbon
END:VTIMEZONE
BEGIN:VEVENT
UID:b30780ea894ebc81688e298a409f1b55
CATEGORIES:Santos
SUMMARY:Natal do Senhor
DESCRIPTION;ENCODING=QUOTED-PRINTABLE:\n\nHoje a Igreja celebra o nascimento do seu Salvador, Jesus Cristo Senhor
 !\nDeus quis fazer-se homem: e hoje vem até nós, sob a forma de um menino. 
 Uma criança, inocente, de quem ninguém tem medo.\nDeus entra hoje na nossa 
 história pessoal, se escutarmos a sua Palavra, como entrou há mais de dois 
 mil anos na história daqueles e daquelas que, nessa altura, escutaram a sua
  voz. Se é certo que, historicamente, Jesus Cristo entrou em Israel e no Mu
 ndo, há dois mil anos, na prática só entra na história da nossa vida, quand
 o o acolhemos na fé.\nSe hoje, os Anjos descessem à terra, dir-nos-iam o me
 smo que disseram, há 2000 anos, aos Pastores de Belém: «Anuncio-vos uma gra
 nde alegria: nasceu-vos, hoje, um Salvador».\nO nascimento deste Menino não
  pode deixar o mundo como está, é necessário que nos deixemos tocar pelas p
 alavras do profeta Isaías: «Hoje se escutardes a voz do Senhor, não fecheis
  os vossos corações»; deixemos que este Menino que hoje nasceu se torne par
 a nós luz e guia, que saibamos acolhê-lo nos nossos corações e colocar em p
 rática tudo o que Ele nos ensinou.\nPresépios, árvores, enfeites, banquetes
  e os presentes que representam as oferendas que os Reis Magos levaram até 
 Jesus, são os símbolos nas não a essência do Natal. O essencial do Natal, é
  que Cristo realmente nasça em nossos corações de uma maneira nova.\nDeixem
 o-nos inundar desta alegria de nos sentirmos filhos amados de um Deus que s
 e fez igual a nós, para connosco, fazer história e nos tornar herdeiros de 
 uma vida eterna, abundante, plena e feliz.\nQue tudo o que realizemos hoje 
 aponte para o grande aniversariante do dia: o Menino Deus!\n \nUm Santo Nat
 al!!!\n
DTSTAMP:20260423T045901Z
DTSTART;TZID=Europe/Lisbon;VALUE=DATE:20261225
DTEND;TZID=Europe/Lisbon;VALUE=DATE:20261226
SEQUENCE:0
TRANSP:OPAQUE
END:VEVENT
END:VCALENDAR