BEGIN:VCALENDAR
VERSION:2.0
PRODID:-//jEvents 2.0 for Joomla//EN
CALSCALE:GREGORIAN
METHOD:PUBLISH
BEGIN:VTIMEZONE
TZID:Europe/Lisbon
END:VTIMEZONE
BEGIN:VEVENT
UID:a097c8090d44fa19a40b8b8578455756
CATEGORIES:Santos
SUMMARY:São Domingos de Silos
DESCRIPTION;ENCODING=QUOTED-PRINTABLE:\n\nSão Domingos de Silos nasceu no ano 1000 em na Espanha e faleceu a 20 d
 e Dezembro de 1073 em Silos, Burgos (Espanha). São Domingos de Silos nasceu
  numa família pobre e cristã. Ainda menino, quando era pastor, aproveitava 
 o ofício para oferecer leite aos pobres. Ao mesmo tempo, São Domingos de Si
 los era um menino estudioso e a família resolveu matriculá-lo na escola da 
 paróquia.\nO pároco viu a boa vontade de São Domingos de Silos e ajudou-o a
  entrar no seminário. Depois de ser ordenado São Domingos passou mais de um
  ano na família e depois viveu dezoito meses na solidão. \nCom o passar do 
 tempo entrou para a família beneditina, ingressando no mosteiro de Santo Em
 iliano, onde logo foi feito mestre dos noviços pelo abade do mosteiro. Em s
 eguida, foi encarregado de restaurar o priorado de Santa Maria de Cañas. De
 pois São Domingos de Silos foi feito prior do mosteiro de Santo Emiliano. U
 m dia, o príncipe de Navarra, sem dinheiro para as suas guerras, veio ao mo
 steiro exigir uma contribuição exorbitante. Os monges estavam dispostos a c
 eder, mas o São Domingos de Silos recusou de forma humilde e categórica. Fu
 gindo da vingança do príncipe, São Domingos de Silos exilou-se em Burgos on
 de Fernando Magno, rei de Castela e Aragão, o recebeu no seu palácio. No en
 tanto, São Domingos retirou-se para um eremitério fora da cidade. O rei pen
 sou então no mosteiro de São Sebastião de Silos, quase abandonado, e deu-o 
 ao recém-chegado, a 14 de janeiro de 1041.\nSão Domingos de Silos teve uma 
 visão de um anjo em sonho que lhe prometeu três coroas: uma por ter abandon
 ado o mundo mal e se ter encaminhado para a vida perfeita; outra por ter co
 nstruído Santa Maria de Cañas e ter observado castidade perfeita; e a terce
 ira pela restauração de Silos. \nSão Domingos de Silos, previu a sua morte 
 que ocorreu a 20 de Dezembro de 1073 no mosteiro de S. Sebastião de Silos. 
 O seu exemplo de bondade e simplicidade foi tão forte que o seu próprio pai
  decidiu tornar-se monge.\nDos diversos milagres que se atribuem ao São Dom
 ingos de Silos o mais difícil é a libertação de um cristão que estava em po
 der dos mouros. Sabendo que São Domingos de Silos se dedicava a libertar os
  cristãos aprisionados, os mouros decidiram meter o prisioneiro dentro de u
 ma pesada arca.\nSobre o imenso e pesado móvel dormia um cachorro, um galo 
 e uma galinha que tinham por missão despertar com latidos e cacarejos o mou
 ro, se alguém dela se aproximasse.        \nPassaram-se os dias, e os anima
 is continuavam a dormir em cima da arca enquanto o mouro espiava a cada mom
 ento pelas fendas de uma porta. O tempo passava e São Domingos de Silos não
  aparecia para resgatar o cristão.           \nO prisioneiro sentia que o s
 eu corpo se ia debilitando dia a dia, e já tinha perdido as esperanças de s
 er resgatado.\nSem encontrar resistência, em uma noite, quando o mouro dorm
 ia sob o efeito de uma tremenda bebedeira, apareceu São Domingos de Silos q
 ue levou pelos ares não só a arca onde se encontrava o cristão, bem como o 
 galo, a galinha e o cachorro, levando tudo até o povoado de Silos. Donde os
  monges fizeram tocar de alegria os sinos acompanhados pelo clamor incessan
 te das pessoas que receberam o prisioneiro libertado.\n \nSão Domingos de S
 ilos, rogai por nós!\n
DTSTAMP:20260420T084639Z
DTSTART;TZID=Europe/Lisbon;VALUE=DATE:20231220
DTEND;TZID=Europe/Lisbon;VALUE=DATE:20231221
SEQUENCE:0
TRANSP:OPAQUE
END:VEVENT
END:VCALENDAR