BEGIN:VCALENDAR
VERSION:2.0
PRODID:-//jEvents 2.0 for Joomla//EN
CALSCALE:GREGORIAN
METHOD:PUBLISH
BEGIN:VTIMEZONE
TZID:Europe/Lisbon
BEGIN:STANDARD
DTSTART:20181218T000000
RDATE:20190331T020000
TZOFFSETFROM:+0100
TZOFFSETTO:+0000
TZNAME:Europe/Lisbon WET
END:STANDARD
BEGIN:STANDARD
DTSTART:20191027T010000
RDATE:20200329T020000
TZOFFSETFROM:+0100
TZOFFSETTO:+0000
TZNAME:Europe/Lisbon WET
END:STANDARD
BEGIN:STANDARD
DTSTART:20201025T010000
RDATE:20210328T020000
TZOFFSETFROM:+0100
TZOFFSETTO:+0000
TZNAME:Europe/Lisbon WET
END:STANDARD
BEGIN:DAYLIGHT
DTSTART:20190331T020000
RDATE:20191027T010000
TZOFFSETFROM:+0000
TZOFFSETTO:+0100
TZNAME:Europe/Lisbon WEST
END:DAYLIGHT
BEGIN:DAYLIGHT
DTSTART:20200329T020000
RDATE:20201025T010000
TZOFFSETFROM:+0000
TZOFFSETTO:+0100
TZNAME:Europe/Lisbon WEST
END:DAYLIGHT
END:VTIMEZONE
BEGIN:VEVENT
UID:eceb6f7ce334f2d14c21a7fa6ba7e690
CATEGORIES:Santos
SUMMARY:Beato Urbano V
DESCRIPTION;ENCODING=QUOTED-PRINTABLE:\n\nBeato Urbano V nasceu no ano de 1310 em Le Pont-de-Montvert (França) e 
 faleceu a 19 de Dezembro de 1370 em Avignon (França).\nEra filho de Guilher
 me de Grimoard e de Anfelisa de Montferrand. Beato Urbano V pertencia a uma
  nobre família francesa. Doutorou-se em Direito Canónico e civil. Ainda mui
 to jovem, Beato Urbano V ingressou no mosteiro dos Beneditinos. Um dia, tro
 cou a toga pelo hábito de monge, chegando a ocupar altos cargos dentro da O
 rdem beneditina.\nA 6 de Novembro de 1362, assumiu o cargo de Papa da Igrej
 a Católica, numa época em que a Europa sofria agitações sociais muito inten
 sas. Em 1309 o Papa Clemente V, numa tentativa de manter o pontífice longe 
 das intrigas e das lutas políticas e revolucionárias, que dominavam Roma, e
 stabeleceu a Corte Papal em Avignon. Assim Beato Urbano V estabeleceu-se em
  Avignon.\nO seu pontificado durou apenas oito anos, mas caracterizou-se, p
 ela sábia administração, pelo esforço de renovar os costumes e pela nobreza
  de intenções. Beato Urbano V reformou a disciplina eclesiástica e reorgani
 zou a corte pontifícia de maneira que fosse um exemplo de vida cristã, cort
 ando pela raiz muitos abusos. Preocupava-se com a instrução do povo, promov
 eu as ciências e criou novos centros de estudos. A pedido do rei da Polónia
 , fundou a universidade de Cracóvia e, na universidade de Montpellier, fund
 ou um colégio médico, ajudando pessoalmente estudantes pobres.\nBeato Urban
 o V organizou uma cruzada contra os turcos muçulmanos que ameaçavam a Europ
 a. Enviou numerosos grupos de religiosos às regiões europeias ainda necessi
 tadas de evangelizadores, como a Bulgária e a Roménia. Beato Urbano V organ
 izou também uma expedição missionária para levar a palavra aos mongóis da Á
 sia.\nO grande sonho do Papa Urbano V, era levar de volta a sede da Igreja 
 para Roma. Conseguiu isso, em Outubro de 1367, sendo recebido com entusiasm
 ada aclamação popular. Beato Urbano V olhou mais para a reconstrução espiri
 tual da Igreja do que à restauração das coisas materiais. Promoveu a unidad
 e entre os cristãos, que pareceu realizar-se através da união da Igreja gre
 ga com a latina em 1369.\nFoi o primeiro a se estabelecer no palácio ao lad
 o da Basílica de São Pedro, no Vaticano. E, desde então, se tornou a residê
 ncia oficial dos pontífices. Mas a paz durou pouco. Alguns anos depois Urba
 no V foi novamente obrigado a deixar Roma, e voltar para Avignon, onde fale
 ceu em 19 de dezembro de 1370.\nFoi beatificado pelo Papa Pio IX no ano de 
 1870.\n\n\n \n
DTSTAMP:20260419T170015Z
DTSTART;TZID=Europe/Lisbon;VALUE=DATE:20191219
DTEND;TZID=Europe/Lisbon;VALUE=DATE:20191220
SEQUENCE:0
TRANSP:OPAQUE
END:VEVENT
END:VCALENDAR