BEGIN:VCALENDAR
VERSION:2.0
PRODID:-//jEvents 2.0 for Joomla//EN
CALSCALE:GREGORIAN
METHOD:PUBLISH
BEGIN:VTIMEZONE
TZID:Europe/Lisbon
BEGIN:STANDARD
DTSTART:20161217T000000
RDATE:20170326T020000
TZOFFSETFROM:+0100
TZOFFSETTO:+0000
TZNAME:Europe/Lisbon WET
END:STANDARD
BEGIN:STANDARD
DTSTART:20171029T010000
RDATE:20180325T020000
TZOFFSETFROM:+0100
TZOFFSETTO:+0000
TZNAME:Europe/Lisbon WET
END:STANDARD
BEGIN:STANDARD
DTSTART:20181028T010000
RDATE:20190331T020000
TZOFFSETFROM:+0100
TZOFFSETTO:+0000
TZNAME:Europe/Lisbon WET
END:STANDARD
BEGIN:STANDARD
DTSTART:20191027T010000
RDATE:20200329T020000
TZOFFSETFROM:+0100
TZOFFSETTO:+0000
TZNAME:Europe/Lisbon WET
END:STANDARD
BEGIN:STANDARD
DTSTART:20201025T010000
RDATE:20210328T020000
TZOFFSETFROM:+0100
TZOFFSETTO:+0000
TZNAME:Europe/Lisbon WET
END:STANDARD
BEGIN:DAYLIGHT
DTSTART:20170326T020000
RDATE:20171029T010000
TZOFFSETFROM:+0000
TZOFFSETTO:+0100
TZNAME:Europe/Lisbon WEST
END:DAYLIGHT
BEGIN:DAYLIGHT
DTSTART:20180325T020000
RDATE:20181028T010000
TZOFFSETFROM:+0000
TZOFFSETTO:+0100
TZNAME:Europe/Lisbon WEST
END:DAYLIGHT
BEGIN:DAYLIGHT
DTSTART:20190331T020000
RDATE:20191027T010000
TZOFFSETFROM:+0000
TZOFFSETTO:+0100
TZNAME:Europe/Lisbon WEST
END:DAYLIGHT
BEGIN:DAYLIGHT
DTSTART:20200329T020000
RDATE:20201025T010000
TZOFFSETFROM:+0000
TZOFFSETTO:+0100
TZNAME:Europe/Lisbon WEST
END:DAYLIGHT
END:VTIMEZONE
BEGIN:VEVENT
UID:eb9ec9b784248de283e978f648b9c306
CATEGORIES:Santos
SUMMARY:São Graciano
DESCRIPTION;ENCODING=QUOTED-PRINTABLE:\nNão se sabe muito sobre a vida de São Graciano. Desconhece-se a data do s
 eu nascimento, e relativamente à data do seu falecimento sabe-se que a mesm
 a terá ocorrido cerca do ano 300 na cidade de Tours (França).\nNo ano de 24
 9, o papa Fabião (http://www.paroquia-almancil.pt/utilidades/vida-dos-santo
 s/icalrepeat.detail/2018/01/20/4926/-/s-fabi%C3%A3o.html) terá enviado sete
  missionários para evangelizar a região da Gália (actual França).\nOs sete 
 missionários terão sido: São Graciano; Trophime d&rsquo;Arles; Paul de Narb
 onne; Saturnin de Toulouse; Denis de Paris; Austremoine de Clermont; Martia
 l de Limoges (nomes em francês dos missionários à excepção de São Graciano)
 .\nSão Graciano foi o primeiro bispo de Tours. Quando São Graciano chegou à
  cidade a mesma não tinha igreja, os pobres eram maltratados e os doentes, 
 marginalizados; Tours era dominada, completamente, pelo paganismo. Desde o 
 início, como representante do catolicismo, São Graciano passou a ser perseg
 uido pelos infiéis, que não queriam deixar a adoração dos falsos deuses.\nE
 m certos períodos, a perseguição era tanta e tão feroz que São Graciano pre
 cisou esconder-se em lugares solitários. Lá, reunia os cristãos e os intere
 ssados em converter-se para poder celebrar os sacramentos, a missa e pregar
  a palavra de Cristo.\nMas o São Graciano perseverou e o grupo de cristãos 
 foi crescendo. Os pobres da cidade, pela primeira vez, começaram a receber 
 atenção e ajuda comunitária. São Graciano fundou, um hospital para os doent
 es abandonados visto que não existia nenhum na região.\nSegundo a tradição,
  o próprio Jesus terá aparecido a São Graciano para o avisar que a sua mort
 e se aproximava. \nMorreu, numa data imprecisa, no ano 300/301. O seu corpo
  foi sepultado no cemitério cristão que implantara nos arredores da cidade.
 \n \nSão Graciano rogai por nós!\n
DTSTAMP:20260419T163445Z
DTSTART;TZID=Europe/Lisbon;VALUE=DATE:20171218
DTEND;TZID=Europe/Lisbon;VALUE=DATE:20171219
SEQUENCE:0
TRANSP:OPAQUE
END:VEVENT
END:VCALENDAR