BEGIN:VCALENDAR
VERSION:2.0
PRODID:-//jEvents 2.0 for Joomla//EN
CALSCALE:GREGORIAN
METHOD:PUBLISH
BEGIN:VTIMEZONE
TZID:Europe/Lisbon
BEGIN:STANDARD
DTSTART:20150116T000000
RDATE:20150329T020000
TZOFFSETFROM:+0100
TZOFFSETTO:+0000
TZNAME:Europe/Lisbon WET
END:STANDARD
BEGIN:STANDARD
DTSTART:20151025T010000
RDATE:20160327T020000
TZOFFSETFROM:+0100
TZOFFSETTO:+0000
TZNAME:Europe/Lisbon WET
END:STANDARD
BEGIN:STANDARD
DTSTART:20161030T010000
RDATE:20170326T020000
TZOFFSETFROM:+0100
TZOFFSETTO:+0000
TZNAME:Europe/Lisbon WET
END:STANDARD
BEGIN:STANDARD
DTSTART:20171029T010000
RDATE:20180325T020000
TZOFFSETFROM:+0100
TZOFFSETTO:+0000
TZNAME:Europe/Lisbon WET
END:STANDARD
BEGIN:STANDARD
DTSTART:20181028T010000
RDATE:20190331T020000
TZOFFSETFROM:+0100
TZOFFSETTO:+0000
TZNAME:Europe/Lisbon WET
END:STANDARD
BEGIN:STANDARD
DTSTART:20191027T010000
RDATE:20200329T020000
TZOFFSETFROM:+0100
TZOFFSETTO:+0000
TZNAME:Europe/Lisbon WET
END:STANDARD
BEGIN:STANDARD
DTSTART:20201025T010000
RDATE:20210328T020000
TZOFFSETFROM:+0100
TZOFFSETTO:+0000
TZNAME:Europe/Lisbon WET
END:STANDARD
BEGIN:DAYLIGHT
DTSTART:20150329T020000
RDATE:20151025T010000
TZOFFSETFROM:+0000
TZOFFSETTO:+0100
TZNAME:Europe/Lisbon WEST
END:DAYLIGHT
BEGIN:DAYLIGHT
DTSTART:20160327T020000
RDATE:20161030T010000
TZOFFSETFROM:+0000
TZOFFSETTO:+0100
TZNAME:Europe/Lisbon WEST
END:DAYLIGHT
BEGIN:DAYLIGHT
DTSTART:20170326T020000
RDATE:20171029T010000
TZOFFSETFROM:+0000
TZOFFSETTO:+0100
TZNAME:Europe/Lisbon WEST
END:DAYLIGHT
BEGIN:DAYLIGHT
DTSTART:20180325T020000
RDATE:20181028T010000
TZOFFSETFROM:+0000
TZOFFSETTO:+0100
TZNAME:Europe/Lisbon WEST
END:DAYLIGHT
BEGIN:DAYLIGHT
DTSTART:20190331T020000
RDATE:20191027T010000
TZOFFSETFROM:+0000
TZOFFSETTO:+0100
TZNAME:Europe/Lisbon WEST
END:DAYLIGHT
BEGIN:DAYLIGHT
DTSTART:20200329T020000
RDATE:20201025T010000
TZOFFSETFROM:+0000
TZOFFSETTO:+0100
TZNAME:Europe/Lisbon WEST
END:DAYLIGHT
END:VTIMEZONE
BEGIN:VEVENT
UID:74841f0721562c5f8d4e681d0fa3d6d1
CATEGORIES:Santos
SUMMARY:Santo Antão
DESCRIPTION;ENCODING=QUOTED-PRINTABLE:Santo Antão, também é conhecido como Santo António do Egipto; Santo Antão d
 o Deserto; Santo Antão, o Grande; Santo Antão, o eremita; Santo Antão, o An
 acoreta ou o Pai de todos os monges.\nSanto Antão foi um santo cristão do E
 gipto. \nSanto Antão era um cristão fervoroso, e com cerca de vinte anos to
 mou o Evangelho à letra e distribui todos os seus bens pelos pobres, partin
 do de seguida para viver no deserto. Aí, segundo o relato de Atanásio, e ta
 l como acontecera com Jesus, foi tentado pelo Diabo, mas por muito mais que
  os quarenta dias, pelos quais Jesus foi tentado. Contudo, Santo Antão resi
 stiu às tentações e não se deixou seduzir pelas mesmas.\nO nome de Santo An
 tão começou a ganhar fama, por ser exímio na arte de pastorar e começou a s
 er venerado por numerosos visitantes, que o iam visitar ao deserto.\nNo ano
  311 d.C, viajou até à Alexandria, no Egipto, para ajudar os cristãos perse
 guidos por Maximino Daia, e no ano de 355 d.C. lá regressou para impugnar a
  doutrina ariana. \nSanto Antão foi considerado santo em vida, capaz de rea
 lizar milagres, conduzindo muitos à conversão.\n\n\nNascimento: ano 251 d.C
 .em Tebaida, Alto Egipto\nMorte: ano 356 d.C.\n\nCuriosidade: No ano 1095, 
 foi fundade uma ordem à qual foi dada o seu nome: Antonianos (Canonici Regu
 lares Sancti Antonni - CRSA.\n
DTSTAMP:20260420T121500Z
DTSTART;TZID=Europe/Lisbon;VALUE=DATE:20160117
DTEND;TZID=Europe/Lisbon;VALUE=DATE:20160118
SEQUENCE:0
TRANSP:OPAQUE
END:VEVENT
END:VCALENDAR