BEGIN:VCALENDAR
VERSION:2.0
PRODID:-//jEvents 2.0 for Joomla//EN
CALSCALE:GREGORIAN
METHOD:PUBLISH
BEGIN:VTIMEZONE
TZID:Europe/Lisbon
END:VTIMEZONE
BEGIN:VEVENT
UID:fd32ffecb61d1c43e7dcfc96bd0bf6b6
CATEGORIES:Santos
SUMMARY:São Lázaro
DESCRIPTION;ENCODING=QUOTED-PRINTABLE:\n\n\nSão Lázaro, é um personagem bíblico descrito no Evangelho de S. João 
 como um amigo que Jesus. O nome Lázaro provém, provavelmente do grego e cor
 responde ao hebraico Eleazar (אלעזר), significa literalmente "Deus ajudou".
 \nLázaro é irmão de Marta e de Maria. Os três irmãos tinham por hábito hosp
 edar Jesus e os apóstolos em sua casa.\nLázaro já teria falecido há 4 dias,
  quando Jesus teve conhecimento da morte deste pelas suas irmãs. A notícia 
 da morte de Lázaro terá feito o Messias chorar e protagonizar um milagre de
  ressurreição, dizendo Cristo a Marta, irmã de Lázaro: &ldquo;Eu sou a ress
 urreição e a vida; quem crê em mim, ainda que morra, viverá: e quem vive e 
 crê em mim, não morrerá.&rdquo;\nA história de Lázaro é divergente quanto a
 o seu final. Para uns, São Lázaro ressuscitado terá ido a Provença depois d
 a morte de Jesus em companhia das suas irmãs e de outras pessoas. S. Lázaro
  teria sido (de acordo com esta versão) o primeiro bispo de Marselha. Para 
 outros, São Lázaro para escapar da perseguição, terá ido para o Chipre, est
 abelecendo-se na então cidade de Cítio, hoje Lárnaca, encontrando-se com o 
 apóstolo Paulo onde viveu por 30 anos e morreu de velhice.\nA sua sepultura
  original, feita de mármore, estava localizada no local onde hoje está a ig
 reja de São Lázaro. De acordo com os registros históricos, os restos mortai
 s de Lázaro foram levados para Constantinopla por ordem do Imperador Leo VI
 . Porém, em 1972 foram encontrados remanescentes dos restos mortais de Láza
 ro escondidos na igreja actual.\nNa Idade Média, São Lázaro tornou-se o pad
 roeiro dos leprosos pela associação feita com seu homónimo, Lázaro (mendigo
  e leproso), narrado na parábola contada por São Lucas - Parábola do Lázaro
  e do Rico.\n \n
DTSTAMP:20260423T064449Z
DTSTART;TZID=Europe/Lisbon;VALUE=DATE:20261217
DTEND;TZID=Europe/Lisbon;VALUE=DATE:20261218
SEQUENCE:0
TRANSP:OPAQUE
END:VEVENT
END:VCALENDAR