BEGIN:VCALENDAR
VERSION:2.0
PRODID:-//jEvents 2.0 for Joomla//EN
CALSCALE:GREGORIAN
METHOD:PUBLISH
BEGIN:VTIMEZONE
TZID:Europe/Lisbon
END:VTIMEZONE
BEGIN:VEVENT
UID:0f45654c650552da779fa0495024c390
CATEGORIES:Santos
SUMMARY:Santa Adelaide
DESCRIPTION;ENCODING=QUOTED-PRINTABLE:\n\n\nSanta Adelaide é também conhecida como Adelaide de Itália ou Adelaide
  de Borgonha nasceu no ano de 931 na Borgonha (França) e faleceu a 16 de De
 zembro de 999 em Selz, Alsácia (França).\nSanta Adelaide era filha de Rodol
 fo II da Borgonha e de Berta da Suábia. Ficou órfã de pai aos 6 anos. A cor
 te organizou o seu casamento com o rei Lotário II de Itália, com o qual San
 ta Adelaide casou aos 15 anos e enviuvou três anos mais tarde, quando o rei
  Lotário II morreu defendendo o trono de Itália, contra o rei Berengário. \
 nSanta Adelaide foi presa devido a interesses políticos, pelo rei Berengári
 o e pela sua mulher Wila.\nCom a ajuda do piedoso capelão Martinho, Santa A
 delaide consegue escapar e, escoltada pelo marquês, refugia-se no castelo d
 o Duque de Canossa, Alberto Uzzo.\nO imperador Otão I (segundo algumas font
 es será Oto I), o homem mais poderoso daquele tempo invadiu a Itália e afug
 entou Berengário. Santa Adelaide casou-se com o imperador no dia de Natal d
 e 951, resultando daí uma união feliz.  \nOtão I faleceu e Santa Adelaide, 
 viu-se viúva pela segunda vez. Santa Adelaide tornou-se então regente do fi
 lho Otão II (Oto II) até à maioridade deste.\nOtão II aceitava os conselhos
  da mãe governando com ponderação até que em 971 se casou com a princesa gr
 ega Teofânia Escleraina. Como não gostava da influência da sogra sobre o ma
 rido, Teofânia conseguiu fazer com que Otão II \nbrigasse com a mãe por cau
 sa dos gastos com suas obras de caridade e as doações que fazia aos convent
 os e igrejas. Por isso exigiu que Adelaide deixasse o reino. \nEscorraçada,
  Santa Adelaide procurou abrigo em Roma, junto do papa. Depois, passou um p
 eríodo em França, na Corte do seu irmão, rei da Borgonha. Mas a dor da ingr
 atidão filial a perseguia. Santa Adelaide viu, também, que Otão II reinava 
 com injustiça, dentro do luxo, da discórdia e da leviandade, devido à má in
 fluência de Teofânia. Nessa época, foi seu diretor espiritual o abade Odilo
 , de Cluny. Ao mesmo tempo, o abade passou a orientar Otão II. Após dois an
 os de separação, arrependido, Otão II convidou Santa Adelaide a visitá-lo e
  pediu o seu perdão. Santa Adelaide reconciliou com filho e a paz voltou ao
  reino. Entretanto o imperador morreria poucos anos depois.\nComo o neto de
  Santa Adelaide, Otão III (Oto III), não tinha idade para assumir o trono, 
 Teofânia ficou como sua regente. Teofânia pretendia matar a sogra, mas foi 
 assassinada antes, (quatro semanas depois de assumir o governo). Santa Adel
 aide tornou-se então a imperatriz regente da Alemanha.\nSanta Adelaide admi
 nistrou com justiça, solidariedade e piedade. Trouxe para a Corte as duas f
 ilhas de sua maior inimiga e educou-as com carinho e proteção. O seu reinad
 o foi de obrigações políticas e religiosas muito equilibradas, distribuindo
  felicidade e prosperidade para o povo e paz para toda a nação. \nNos últim
 os anos de vida, Adelaide foi para o Convento beneditino de Selz, na Alsáci
 a, que ela fundara, em Estrasburgo. Morreu ali com oitenta e seis anos de i
 dade, no dia 16 de dezembro de 999.\nFoi canonizada em 1097.\n
DTSTAMP:20260423T045901Z
DTSTART;TZID=Europe/Lisbon;VALUE=DATE:20261216
DTEND;TZID=Europe/Lisbon;VALUE=DATE:20261217
SEQUENCE:0
TRANSP:OPAQUE
END:VEVENT
END:VCALENDAR