BEGIN:VCALENDAR
VERSION:2.0
PRODID:-//jEvents 2.0 for Joomla//EN
CALSCALE:GREGORIAN
METHOD:PUBLISH
BEGIN:VTIMEZONE
TZID:Europe/Lisbon
END:VTIMEZONE
BEGIN:VEVENT
UID:f35a53899c2071f3230431adb486a36a
CATEGORIES:Santos
SUMMARY:São Frutuoso
DESCRIPTION;ENCODING=QUOTED-PRINTABLE:\n\n\nFrutuoso de Braga ou Frutuoso de Dume nasceu na região de Bierzo, pro
 víncia de Leão (Espanha), nos primeiros anos do séc. VII e faleceu a 16 de 
 Abril de 665. Era oriundo de uma família real, tudo indica que o seu pai te
 nha sido duque do exército Visigodo de Hispânia (nome dado pelos romanos à 
 Península Ibérica (atuais Portugal, Espanha, Andorra, Gibraltar e uma peque
 na parte a sul da França). Teve uma irmã, a quem o pai casou com um nobre d
 e nome Visinando.\nS. Frutuoso desde muito cedo anseia por renunciar aos be
 ns materiais. Conta-se que quando o pai o levava aos vales da região de Bie
 rzo, para pastar os rebanhos, S. Frutuoso alheio aos trabalhos e às convers
 as do pai, entrava no seu mundo interior e analisava a altitude daqueles va
 les, idealizando a construção de um mosteiro nessas propriedades. \nDepois 
 da morte dos pais, ganha a liberdade que sempre desejou e parte para Palênc
 ia, confiando a sua formação espiritual ao bispo Conâncio. Terminada esta c
 om êxito, regressa a Bierzo com dois objetivos que concretiza: doar os seus
  bens à Igreja e aos pobres e o abraço ao ascetismo anacorético. S. Frutuos
 o não hesita em refugiar-se nos vales, de preferência em lugares bem isolad
 os, longe de tudo e de todos. A partir daqui a sua vida é somente dedicada 
 a Deus de forma austera e exigente.\nEmbora longe da sociedade circundante 
 S. Frutuoso não consegue passar despercebido. Entre 639 e 642 funda o moste
 iro de Compludo, nas suas propriedades, nos vales de Bierzo. Este foi o pri
 meiro de muitos. Sem dificuldade ocupa o mosteiro com um &ldquo;exército de
  monges&rdquo;.\nMais tarde o seu cunhado Visinando, apela às autoridades c
 ivis para que lhe seja entregue o mosteiro, alegando perante o rei, que aqu
 ela propriedade era precisa para uso do reino. Com este argumento o monarca
  acedeu ao pedido, e ordena que seja tirado o mosteiro a Frutuoso.\nQuando 
 o santo toma conhecimento deste facto desnudou os altares e vesti-os de cil
 ício, ao mesmo tempo que escrevia uma carta ao seu rival, cujo conteúdo se 
 desconhece, apenas se diz que o confundiu em nome do Senhor. Diz-se, também
 , que Visinando sofreu uma vingança divina, acabando por morrer cedo e sem 
 descendência. Os seus bens foram herdados por pessoas alheias. \nDepois da 
 morte do cunhado, S. Frutuoso continuou à frente do mosteiro de Compludo. S
 . Frutuoso aspirava uma vida regrada para todos, com o intuito de proporcio
 nar uma vivência espiritual e contemplativa o mais profunda possível, por i
 sso, estabeleceu a observância à Regra e nomeou um abade para o mosteiro, c
 om rigor e disciplina.\nO seu dom de santidade começa a expandir-se, levand
 o multidões de pessoas a procurá-lo. Frutuoso sente a sua vida ascética ame
 açada e opta, muitas vezes, por refugiar-se em lugares tão isolados, cujo e
 sconderijo não se mostrava aos olhos do homem, nem o acesso lhe abria porta
 s. Era nestes lugares de austeridade que ele multiplicava a oração. \nFundo
 u vários mosteiros, um deles o de S. Salvador de Montélios (atual paróquia 
 de Real, em Braga [Portugal]).\nS. Frutuoso rogai por nós!\n
DTSTAMP:20260420T180043Z
DTSTART;TZID=Europe/Lisbon;VALUE=DATE:20221205
DTEND;TZID=Europe/Lisbon;VALUE=DATE:20221206
SEQUENCE:0
TRANSP:OPAQUE
END:VEVENT
END:VCALENDAR