BEGIN:VCALENDAR
VERSION:2.0
PRODID:-//jEvents 2.0 for Joomla//EN
CALSCALE:GREGORIAN
METHOD:PUBLISH
BEGIN:VTIMEZONE
TZID:Europe/Lisbon
END:VTIMEZONE
BEGIN:VEVENT
UID:4a2a2d5a3e466704b09abf3d6f618c0e
CATEGORIES:Santos
SUMMARY:Santa Luzia
DESCRIPTION;ENCODING=QUOTED-PRINTABLE:\n\n\nSanta Luzia também é conhecida como Santa Lúcia de Siracusa. Santa Lu
 zia nasceu por volta do ano 283 e faleceu cerca do ano 304.\nSanta Luzia na
 sceu na cidade italiana de Siracusa numa família rica e cristã. Era conside
 rada como uma das jovens mais belas de sua cidade. Ficou órfã de pai aos 5 
 anos. A sua mãe, Eutíquia, sofria de graves hemorragias internas. Santa Luz
 ia tinha uma grande convicção cristã, e consagrou-se secretamente, ao Senho
 r Jesus, oferecendo-lhe perpetuamente a sua virgindade.\nUm dia, Santa Luzi
 a foi com a sua mãe peregrinar à cidade de Catânia onde se encontrava o cor
 po da grande Santa Águeda (http://www.paroquia-almancil.pt/utilidades/vida-
 dos-santos/icalrepeat.detail/2018/02/05/11893/-/s-%C3%A1gueda.html).\nO Eva
 ngelho pregado na Eucaristia desse dia foi o da mulher que sofria com hemor
 ragias internas (Mateus 9,19-22; Marcos 5,25-34 e Lucas 8,43-48). Santa Luz
 ia pensou: "Se aquela mulher ao tocar nas vestes do Senhor ficou curada, se
 rá que Santa Águeda não pedirá ao Senhor que cure minha mãe da mesma forma 
 que curou aquela mulher?"\nSanta Luzia pediu então a sua mãe para que esper
 assem que todos saíssem da Igreja, para que ela pudesse ir rezar junto ao c
 orpo de Santa Águeda. Durante esse tempo de oração Luzia dormiu, e em êxtas
 e sonhou que anjos rodeavam Santa Águeda, e que a mesma lhe disse: "Luzia m
 inha irmã, porque pedes a mim uma coisa que tu mesma podes conceder?"\nSant
 a Luzia rapidamente saiu do êxtase e despertou do sonho. Foi procurar a sua
  mãe, à qual disse que tinha sido curada. Santa Luzia aproveitou esse momen
 to para revelar à mãe que tinha feito um voto de castidade a Jesus, e que i
 ria distribuir todos os seus bens aos pobres.\nA sua mãe disse-lhe: "Luzia 
 minha filha, tudo o que é meu e do teu falecido pai é teu, por isso que se 
 faça o que queres?" Ao chegar a casa começaram a distribuir todos os seus b
 ens aos pobres.\nAo aperceber-se do que se estava a passar, um jovem muito 
 rico e pagão, politeísta de nascença, foi perguntar à mãe de Santa Luzia o 
 motivo porque distribuíam os seus bens, ao que Eutíquia respondeu: "Luzia é
  muito providente e é porque achou bens do Paraíso Celeste muito mais valio
 sos do que esses que estamos fazendo isso". Com o passar dos dias o jovem d
 enunciou Santa Luzia ao governador de Siracusa Pascasio, por esta ser crist
 ã. O governador mandou Santa Luzia ao Imperador Diocleciano, que tentou per
 suadi-la a se converter aos ídolos. Santa Luzia mostrou-se cheia do Espírit
 o Santo em frente ao imperador Diocleciano. Vendo que nada a convertia deci
 diu-se pelo seu martírio.\nDiocleciano mandou-a para uma casa de prostituiç
 ão, mas foi em vão pois ninguém conseguia tirar Santa Luzia do local. Os so
 ldados saíram envergonhados do local, pois os seus pés estavam como que fin
 cados no chão, como raízes de plantas e nem mesmo uma junta de bois consegu
 iu tirar Santa Luzia do sítio onde se encontrava.\nComo nada dera certo, te
 ntaram atear-lhe fogo. Santa Luzia rezou e as chamas nada fizeram contra el
 a. Depois disso e como Santa Luzia não se convertia aos falsos deuses roman
 o, um soldado, a mando do imperador, arrancou-lhe os olhos e entregou-lhos 
 num prato, mas, milagrosamente, nasceram-lhe no rosto dois lindos olhos, sã
 os, perfeitos e mais lindos do que os primeiros.\nVendo que nada a convenci
 a a converter-se ao paganismo, decapitaram Santa Luzia no momento em que es
 ta dizia: "Adoro a um só Deus verdadeiro, a quem prometi amor e fidelidade.
 &rdquo;\nSanta Luzia é a padroeira dos oftalmologistas e daqueles que têm p
 roblemas de visão.\nSanta Luzia rogai por nós!\n
DTSTAMP:20260420T040552Z
DTSTART;TZID=Europe/Lisbon;VALUE=DATE:20221213
DTEND;TZID=Europe/Lisbon;VALUE=DATE:20221214
SEQUENCE:0
TRANSP:OPAQUE
END:VEVENT
END:VCALENDAR