BEGIN:VCALENDAR
VERSION:2.0
PRODID:-//jEvents 2.0 for Joomla//EN
CALSCALE:GREGORIAN
METHOD:PUBLISH
BEGIN:VTIMEZONE
TZID:Europe/Lisbon
END:VTIMEZONE
BEGIN:VEVENT
UID:14b399f74342377bb046550d8a15ed21
CATEGORIES:Santos
SUMMARY:São Honorato de Arles
DESCRIPTION;ENCODING=QUOTED-PRINTABLE:São Honorato era filho de uma nobre família romana, tendo vivido em Roma em
  meados do século IV, São Honorato recebeu educação elevada, mas ao contrár
 io do que a sua família esperava, São Honorato usou a sua educação para se 
 firmar líder da Igreja como monge e pastor. São Honorato converteu-se depoi
 s de adulto, mesmo tendo sido pressionado pelos seus pais para que abandona
 sse a sua fé. São Honorato, conseguiu converter também o seu irmão, de nome
  Venâncio.\nAssim que os pais morreram, São Honorato e Venâncio, seu irmão,
  desfizeram-se de todos os bens, doando tudo aos necessitados e transforman
 do-se em pregadores. São Honorato e o seu irmão, viajaram pela Síria, Gréci
 a e outras terras espalhando o catolicismo.\nQuando Venâncio morreu, São Ho
 norato resolveu regressar a Itália, onde foi ordenado sacerdote.\nMais tard
 e São Honorato, fixou-se em Lerins, uma ilha desabitada que viria a ficar c
 onhecida como "Ilha Feliz". Tudo isso, porque São Honorato ali fundou um mo
 steiro de elevada inspiração espiritual e intelectual, que rapidamente se t
 ornou uma venerada escola de monges. O mosteiro resistiu e semeou a fé até 
 à Revolução Francesa , quando os monges foram desterrados e a construção co
 nfiscada. Apenas 50 anos depois é que o bispo de Fréjus conseguiu reconstru
 í-lo.\nQuanto a São Honorato, teve que deixá-lo quando foi eleito bispo de 
 Arles.\n\nMorte: ano 429 d.C.\n\nCuriosidade: São Honorato costumava dizer 
 aos seus discípulos "quem é virtuoso não precisa estar triste".\n
DTSTAMP:20260421T043209Z
DTSTART;TZID=Europe/Lisbon;VALUE=DATE:20270116
DTEND;TZID=Europe/Lisbon;VALUE=DATE:20270117
SEQUENCE:0
TRANSP:OPAQUE
END:VEVENT
END:VCALENDAR