BEGIN:VCALENDAR
VERSION:2.0
PRODID:-//jEvents 2.0 for Joomla//EN
CALSCALE:GREGORIAN
METHOD:PUBLISH
BEGIN:VTIMEZONE
TZID:Europe/Lisbon
END:VTIMEZONE
BEGIN:VEVENT
UID:8de522ac19528833ed4a6021f224cf5e
CATEGORIES:Santos
SUMMARY:Santa Maria Maravilhas de Jesus
DESCRIPTION;ENCODING=QUOTED-PRINTABLE:\n\n\nSanta Maria Maravilhas de Jesus nasceu a 4 de Novembro de 1891 na cid
 ade de Madrid (Espanha) e faleceu a 11 de Dezembro de 1974 no convento em L
 a Aldehuela (Madrid). Era filha de Dom Luís Pidal y Mon e de Dona Cristina 
 Chico de Gusmán y Muñoz, marqueses de Pidal. O pai de Santa Maria Maravilha
 s de Jesus era o embaixador espanhol para a Santa Sé e havia sido Ministro 
 de Fomento. Santa Maria Maravilhas de Jesus foi baptizada com apenas 8 dias
 , na Paróquia de São Sebastião com o nome Maria Maravilhas Pidal y Chico de
  Gusmán.\nSanta Maria Maravilhas de Jesus criou com o seu irmão, Alejandro 
 Pidal, a União Católica, um partido político que agradou muito ao Papa Leão
  XIII e à maioria dos bispos espanhóis.  Em um ambiente de tanta religiosid
 ade e distinção, a educação da santa foi esmeradíssima. Santa Maria Maravil
 has de Jesus recebeu o sacramento da confirmação em 1896 e a primeira comun
 hão em 1902.\nSanta Maria Maravilhas de Jesus dizia que sua vocação havia n
 ascido com ela.  Em sua juventude, além de cultivar sua vida de piedade e d
 e levar a cabo seus estudos privados da língua e cultura geral, dedicou-se 
 às obras de beneficência e caridade, ajudando muitas famílias, pobres e mar
 ginalizados.\nSanta Maria Maravilhas de Jesus entrou para o Carmelo de El E
 scorial (Madrid) no dia 12 de Outubro de 1919 e fez a sua profissão religio
 sa em 1921.\nEm 19 de Maio de 1924, a irmã Maria Maravilhas e outras três r
 eligiosas do Carmelo de El Escorial instalaram-se numa casa provisória no p
 ovoado de Getafe para, dali, atender à edificação do convento do Cerro. Nes
 ta ocasião, Santa Maria Maravilhas de Jesus fez sua profissão solene em 30 
 de Maio de 1924.\nEm Junho de 1926 foi nomeada priora da comunidade e, pouc
 os meses depois, em 31 de Outubro, se inaugurava o novo Carmelo em Cerro de
  los Angeles. \nEm 1933 fez a fundação de Kottayam (Índia), enviando oito m
 onjas. Desde 1944 a 1966, lhe seguem outras nove fundações na Espanha.\nEm 
 Julho de 1936 começou a Guerra Civil Espanhola e as monjas do Cerro tiveram
  que sair do convento. Em 1939, Santa Maria Maravilhas de Jesus voltou com 
 um grupo de monjas para recuperar o convento do Cerro, que havia ficado com
 pletamente destruído. Com muitos trabalhos e esforços em meio a uma grande 
 escassez, a santa sabia infundir ânimo e alegria entre suas filhas.\nSanta 
 Maria Maravilhas de Jesus interessava-se pelos problemas dos outros e procu
 rava dar-lhes solução. Lá de sua clausura de La Aldehuela funda um colégio 
 para crianças pobres, faz construir uma vila de casas e uma igreja. Ajuda n
 a construção de 200 vivendas próximas a La Aldehuela. \nFaleceu a 11 de Dez
 embro de 1974 no convento de La Aldehuela. \nFoi canonizada pelo Papa João 
 Paulo II a 4 de Maio de 2003. \n \nSanta Maria Maravilhas de Jesus, rogai p
 or nós!\n
DTSTAMP:20260422T100707Z
DTSTART;TZID=Europe/Lisbon;VALUE=DATE:20231211
DTEND;TZID=Europe/Lisbon;VALUE=DATE:20231212
SEQUENCE:0
TRANSP:OPAQUE
END:VEVENT
END:VCALENDAR