BEGIN:VCALENDAR
VERSION:2.0
PRODID:-//jEvents 2.0 for Joomla//EN
CALSCALE:GREGORIAN
METHOD:PUBLISH
BEGIN:VTIMEZONE
TZID:Europe/Lisbon
BEGIN:STANDARD
DTSTART:20181210T000000
RDATE:20190331T020000
TZOFFSETFROM:+0100
TZOFFSETTO:+0000
TZNAME:Europe/Lisbon WET
END:STANDARD
BEGIN:STANDARD
DTSTART:20191027T010000
RDATE:20200329T020000
TZOFFSETFROM:+0100
TZOFFSETTO:+0000
TZNAME:Europe/Lisbon WET
END:STANDARD
BEGIN:STANDARD
DTSTART:20201025T010000
RDATE:20210328T020000
TZOFFSETFROM:+0100
TZOFFSETTO:+0000
TZNAME:Europe/Lisbon WET
END:STANDARD
BEGIN:DAYLIGHT
DTSTART:20190331T020000
RDATE:20191027T010000
TZOFFSETFROM:+0000
TZOFFSETTO:+0100
TZNAME:Europe/Lisbon WEST
END:DAYLIGHT
BEGIN:DAYLIGHT
DTSTART:20200329T020000
RDATE:20201025T010000
TZOFFSETFROM:+0000
TZOFFSETTO:+0100
TZNAME:Europe/Lisbon WEST
END:DAYLIGHT
END:VTIMEZONE
BEGIN:VEVENT
UID:179227a6d45b41875156ed8c9543b491
CATEGORIES:Santos
SUMMARY:São Dâmaso I
DESCRIPTION;ENCODING=QUOTED-PRINTABLE:\n\n\nSão Dâmaso I nasceu no território português no ano de 305 e faleceu a
  11 de Dezembro de 384 em Roma (Itália).\nA época em que São Dâmaso I viveu
 , coincidiu com a ascensão de Constantino (imperador romano) e a adopção do
  cristianismo como religião oficial do Império Romano.\nEm Outubro de 366, 
 São Dâmaso I conseguiu, após vencer em lutas sangrentas o seu concorrente U
 rsino, ocupar o trono papal. Foram necessários dois anos de lutas sangrenta
 s e chacinas para que Dâmaso chegasse ao papado. As batalhas entre os bando
 s seguidores dos dois postulantes foram de tal violência que em um único di
 a de batalha foram recolhidos 137 mortos. Acusado por seus adversários de a
 ssassinato, Dâmaso teve que se defender perante um tribunal imperial. Porém
  o imperador Valentiniano apoiava Dâmaso e no ano de 378 ele foi absolvido,
  enquanto que o seu inimigo Ursino era desterrado.\nEsse processo deu a Dâm
 aso I a oportunidade de ajustar as relações entre a justiça civil e a ecles
 iástica. O Estado passou a reconhecer oficialmente a competência da Igreja 
 em matéria de fé e de moral, enquanto tomava a seu encargo a execução das s
 entenças ditadas pelo tribunal do episcopal.\nSão Dâmaso foi um dos mais no
 táveis papas do século IV, defendendo a Igreja de Roma contra eventuais cis
 mas, enviando legados ao Primeiro Concílio de Constantinopla.\nSão Dâmaso f
 oi um escritor de grande mérito, autor de valiosos epigramas e de important
 es cartas sinodais. Também foi o papa que encomendou a Jerónimo de Estridão
  uma revisão da versão latina da Bíblia, a qual ficou conhecida como Vulgat
 a Latina, até hoje uma das mais importantes traduções bíblicas.\nFoi o prim
 eiro papa a usar com desenvoltura o anel do Pescador, com o símbolo de São 
 Pedro, que ao contrário de hoje, era passado de pontífice para pontífice, a
 ssim que confirmada a sua morte, como símbolo de sua autoridade pastoral. O
  anel com a égide de Pedro, o primeiro papa, já não existe, pois foi destru
 ído.\n
DTSTAMP:20260419T163444Z
DTSTART;TZID=Europe/Lisbon;VALUE=DATE:20191211
DTEND;TZID=Europe/Lisbon;VALUE=DATE:20191212
SEQUENCE:0
TRANSP:OPAQUE
END:VEVENT
END:VCALENDAR