BEGIN:VCALENDAR
VERSION:2.0
PRODID:-//jEvents 2.0 for Joomla//EN
CALSCALE:GREGORIAN
METHOD:PUBLISH
BEGIN:VTIMEZONE
TZID:Europe/Lisbon
END:VTIMEZONE
BEGIN:VEVENT
UID:251ddac7e26e874053c1c6c2f117bc37
CATEGORIES:Santos
SUMMARY:Beato Marco António
DESCRIPTION;ENCODING=QUOTED-PRINTABLE:\n\n\nBeato Marco Antonio nasceu a 22 de Maio de 1801 em Mondovi, Piemonte 
 (Itália) e faleceu a 10 de Dezembro de 1880 em Turim (Itália). Também é con
 hecido como Beato Marco Antonio Durando. Beato Marco Antonio nasceu numa fa
 mília importante, a sua mãe (Angela Vinaj) era muito piedosa e educou os de
 z filhos de maneira cristã, enquanto o pai tinha ideias liberais e convicçõ
 es laicas e agnósticas.\nAos 14 anos Marco Antonio entra para o seminário d
 iocesano de Mondovi onde inicia os seus estudos filosóficos e teológicos. A
 os 17 anos, entra para o noviciado da Congregação da Missão em Casale Monfe
 rrato, faz votos perpétuos com 18 anos e é ordenado sacerdote em 1824 (23 a
 nos). Permanece em Casale Monferrato por cinco anos. \nO Beato Marco Antoni
 o muda-se para Turim em 1829. Sonha partir como missionário para a China, m
 as a sua saúde delicada impede-o. Expressa então o seu zelo nas Missões Pop
 ulares, pregando a misericórdia de Deus e convidando as pessoas à conversão
 . Nessas missões, não se limita somente à pregação, mas onde encontra situa
 ções de grande pobreza, intervém.\nPressentindo a conveniência de levar as 
 Filhas da Caridade à Itália, deseja instalá-las no Piemonte onde o rei Carl
 os Alberto as acolhe, em 1833, para que assumam a responsabilidade de diver
 sos hospitais militares e civis. Em 1853, Beato Marco Antonio tem a coragem
  de enviá-las (Irmãs da Caridade) para a linha de frente da guerra da Crime
 ia para socorrer os feridos. Ao mesmo tempo, difunde a associação mariana d
 a Medalha Milagrosa entre os jovens. As vocações eram tão numerosas que o r
 ei Carlos Alberto colocou à sua disposição, em 1837, o convento de São Salv
 ario, em Turim.\nAumentando o número de Irmãs, o Beato Marco Antonio organi
 za, na cidade de Turim, uma rede de Centros de Caridade chamada &ldquo;As M
 isericórdias&rdquo;. As Irmãs compartilhavam com as Senhoras da Caridade o 
 serviço ao domicílio e o socorro aos pobres. Diversas obras surgiram a part
 ir das Misericórdias: as primeiras escolas de Educação Infantil para crianç
 as pobres, oficinas para as meninas, orfanatos.\nBeato Marco Antonio Durand
 o, a 21 de Novembro de 1865 confia a Luigia Borgiotti, as primeiras postula
 ntes da nova Companhia da Paixão de Jesus Nazareno. As novas postulantes sã
 o mulheres jovens que desejam consagrar-se a Deus mas que não apresentam as
  condições canónicas requeridas para entrar nas comunidades religiosas. \n
DTSTAMP:20260422T095248Z
DTSTART;TZID=Europe/Lisbon;VALUE=DATE:20231210
DTEND;TZID=Europe/Lisbon;VALUE=DATE:20231211
SEQUENCE:0
TRANSP:OPAQUE
END:VEVENT
END:VCALENDAR