BEGIN:VCALENDAR
VERSION:2.0
PRODID:-//jEvents 2.0 for Joomla//EN
CALSCALE:GREGORIAN
METHOD:PUBLISH
BEGIN:VTIMEZONE
TZID:Europe/Lisbon
BEGIN:STANDARD
DTSTART:20191209T000000
RDATE:20200329T020000
TZOFFSETFROM:+0100
TZOFFSETTO:+0000
TZNAME:Europe/Lisbon WET
END:STANDARD
BEGIN:STANDARD
DTSTART:20201025T010000
RDATE:20210328T020000
TZOFFSETFROM:+0100
TZOFFSETTO:+0000
TZNAME:Europe/Lisbon WET
END:STANDARD
BEGIN:DAYLIGHT
DTSTART:20200329T020000
RDATE:20201025T010000
TZOFFSETFROM:+0000
TZOFFSETTO:+0100
TZNAME:Europe/Lisbon WEST
END:DAYLIGHT
END:VTIMEZONE
BEGIN:VEVENT
UID:ed3a0298e52fbbb2f0c600de2bf28e5a
CATEGORIES:Santos
SUMMARY:Beato Bernardo Maria Silvestrelli
DESCRIPTION;ENCODING=QUOTED-PRINTABLE:\n\n\n\nBeato Bernardo Maria Silvestrelli nasceu em Roma em 7 de novembro d
 e 1831 e faleceu a 9 de Dezembro de 1911. Foi baptizado como Cesare Pietro 
 Silvestrelli, e era filho de Gian Tommaso Silvestrelli e Marquis Teresa Goz
 zani. Começou por estudar em casa com um tutor e depois continuou os estudo
 s no Colégio Romano.\nBeato Bernardo Maria Silvestrelli cresceu vendo a gra
 nde caridade dos pais, que muitas vezes acolheram os necessitados no Paláci
 o Silvestrelli. Aos 23 anos, decide entrar na Ordem dos Passionistas. Entro
 u no noviciado argentino e foi sendo ordenado sacerdote por Monsenhor Molai
 oni Giuseppe. Mudou o seu nome para Bernardo Maria Silvestrelli. \nEm 29 de
  Maio de 1869, o Padre Bernardo está em Roma como Superior Geral da Congreg
 ação da Paixão de Jesus Cristo e a 19 de Setembro de 1970, está ao lado do 
 Papa Pio IX para o consolar e escalar com os joelhos a Escada Santa (Scala 
 Santa) em Roma.\nNo dia seguinte (20 de Setembro de 1970), houve a quebra d
 a Porta Pia e a queda do poder temporal dos papas; Roma tornou-se a capital
  da Itália e o rei Vittorio Emanuele II instalou-se no Palácio Quirinal. No
  entanto, depois de um surgimento inicial e medo, onde o Beato Bernardo Mar
 ia Silvestrelli provou ser um verdadeiro superior valente, a vida da Igreja
  e das Ordens religiosas foi totalmente retomada. Em 1878, o Capítulo Geral
  dos Passionistas proclamou a Presidência Geral da Ordem, que manteve até 1
 888 e depois de 1893 a 1907.\nSob a liderança do Beato Bernardo Maria Silve
 strelli, a Congregação foi retomada, os religiosos passaram de 750 para 149
 0; foram abertas novas casas tanto na Itália como no exterior (no México, A
 ustrália, Inglaterra, França, Holanda, Bélgica, Estados Unidos, Irlanda, Es
 panha e Argentina).\nO Beato Bernardo Maria Silvestrelli ajudou com o seu p
 atrimónio e com a permissão do papa, as mais necessitadas Casas e Religioso
 s; deu impulso ao carisma passista com missões populares. Em 1907, retirou-
 se do cargo para o convento de S. Eutizio, a fim de ficar na mais completa 
 solidão, porém as pessoas procuravam-no constantemente e Bernardo Maria Sil
 vestrelli foi obrigado a mudar-se para o eremitério de Moricone, perto de R
 oma, onde chegou em 16 de junho de 1911.\nMorreu tragicamente a 9 de Dezemb
 ro de 1911, caindo para trás enquanto subia a escada do retiro.\nFoi beatif
 icado a 16 de Outubro de 1988 pelo Papa João Paulo II. \n
DTSTAMP:20260419T181812Z
DTSTART;TZID=Europe/Lisbon;VALUE=DATE:20201209
DTEND;TZID=Europe/Lisbon;VALUE=DATE:20201210
SEQUENCE:0
TRANSP:OPAQUE
END:VEVENT
END:VCALENDAR