BEGIN:VCALENDAR
VERSION:2.0
PRODID:-//jEvents 2.0 for Joomla//EN
CALSCALE:GREGORIAN
METHOD:PUBLISH
BEGIN:VTIMEZONE
TZID:Europe/Lisbon
END:VTIMEZONE
BEGIN:VEVENT
UID:4b6e660cf8b5c517572301c25cc2f4a7
CATEGORIES:Santos
SUMMARY:São João Diogo
DESCRIPTION;ENCODING=QUOTED-PRINTABLE:\n\n\nSão João Diogo nasceu no ano de 1474 em Tlayacac (México) e faleceu a
  30 de Maio de 1548 em Tenochtitlan (actual cidade do México). Quando nasce
 u recebeu o nome de Cuauhtlatoatzin, que quer dizer "que fala como águia" o
 u "águia que fala". \nSão João Diogo pertenceu à mais numerosa e baixa clas
 se do Império Asteca, sem chegar a ser escravo. Dedicou-se a trabalhar a te
 rra e plantava árvores que logo vendia. Possuía um terreno onde construiu u
 ma pequena moradia. Casou-se com uma nativa, e não tiveram filhos. Entre 15
 24 e 1525 S. João Diogo converteu-se ao cristianismo e foi batizado junto c
 om sua esposa, recebendo o nome de Juan Diego (João Diogo) e ela, o de Mari
 a Luzia. Foram batizados pelo missionário franciscano Frei Turíbio de Benav
 ente, chamado pelos índios "Motolinia" ou "o pobre". \nAntes de sua convers
 ão S. João Diogo já era um homem piedoso e religioso. Era muito reservado e
  de caráter místico, gostava do silêncio e estava acostumado a caminhar des
 de seu povoado até o Tenochtitlán, a 20 quilómetros de distância, para rece
 ber instrução religiosa. \nA sua esposa faleceu em 1529 e S. João Diogo foi
  viver com seu tio Juan Bernardino em Tolpetlac, mais perto da igreja de Tl
 atilolco, Tenochtitlán (14 quilómetros em vez dos 20).\nDurante uma das sua
 s habituais caminhadas para Tenochtitlán, que costumavam durar três horas a
 través de montanhas e povoados, S. João Diogo viu uma &ldquo;Senhora do Céu
 &rdquo;, no lugar agora conhecido como "Capela do Cerrito", onde a Virgem M
 aria (http://www.paroquia-almancil.pt/utilidades/vida-dos-santos/icalrepeat
 .detail/2017/12/12/44955/-/nossa-senhora-de-guadalupe.html) lhe falou em se
 u idioma, o náhuatl. A Senhora identificou-se como a Mãe do Verdadeiro Deus
 , e instruiu S. João Diogo a dizer ao bispo que construísse um templo no lu
 gar, e deixou a sua imagem impressa milagrosamente em seu tilma (tipo de ma
 nto exterior usado por homens), um tecido de pouca qualidade (feito a parti
 r do cacto), que deveria se deteriorar em 15 anos, mas que não mostra sinai
 s de deterioração até ao presente, desafiando qualquer explicação científic
 a sobre a sua origem. Em ampliações da face de Nossa Senhora, os Seus olhos
 , na imagem gravada, parecem refletir o que estava à sua frente em 1531: S.
  João Diogo, e o bispo.\nS. João Diogo tinha 57 anos no momento das apariçõ
 es, certamente uma idade avançada num lugar e época onde a expectativa de v
 ida masculina pouco ultrapassava os 40 anos. Após o milagre do Guadalupe, S
 . João Diogo foi viver num pequeno quarto junto à capela que alojava a Sant
 a imagem, depois de deixar todos os seus haveres para seu tio Juan Bernardi
 no. Passou o resto de sua vida dedicado à difusão do relato das aparições e
 ntre as pessoas de seu povo.\nFoi canonizado pelo Papa João Paulo II, no an
 o de 2002.\nS. João Diogo rogai por nós!\n
DTSTAMP:20260420T090658Z
DTSTART;TZID=Europe/Lisbon;VALUE=DATE:20241209
DTEND;TZID=Europe/Lisbon;VALUE=DATE:20241210
SEQUENCE:0
TRANSP:OPAQUE
END:VEVENT
END:VCALENDAR