BEGIN:VCALENDAR
VERSION:2.0
PRODID:-//jEvents 2.0 for Joomla//EN
CALSCALE:GREGORIAN
METHOD:PUBLISH
BEGIN:VTIMEZONE
TZID:Europe/Lisbon
BEGIN:STANDARD
DTSTART:20201207T000000
RDATE:20210328T020000
TZOFFSETFROM:+0100
TZOFFSETTO:+0000
TZNAME:Europe/Lisbon WET
END:STANDARD
END:VTIMEZONE
BEGIN:VEVENT
UID:838d514e7f0c9604890d935a48825cb7
CATEGORIES:Santos
SUMMARY:Imaculada Conceição da Virgem Maria
DESCRIPTION;ENCODING=QUOTED-PRINTABLE:\n\n\nHoje celebramos o dia da Imaculada Conceição da Virgem Maria.\nDesde 
 o cristianismo primitivo diversos Padres da Igreja defenderam a Imaculada C
 onceição da Virgem Maria, tanto no Oriente como no Ocidente. No século IV, 
 Efrém da Síria (306-373), diácono, teólogo e compositor de hinos, dizia que
  só Jesus Cristo e Maria são limpos e puros de toda a mancha do pecado.\nPo
 rém a Imaculada Conceição da Virgem Maria só foi solenemente definida como 
 dogma pelo Papa Pio IX, no dia 8 de Dezembro de 1854, na bula papal Ineffab
 ilis Deus.\nEis a definição oficial do dogma da Imaculada Conceição da Virg
 em Maria, expressado pelo Papa Pio IX:\n \n&ldquo;Em honra da santa e indiv
 isa Trindade, para decoro e ornamento da Virgem Mãe de Deus, para exaltação
  da fé católica, e para incremento da religião cristã, com a autoridade de 
 Nosso Senhor Jesus Cristo, dos bem-aventurados Apóstolos Pedro e Paulo, e c
 om a nossa, declaramos, pronunciamos e definimos a doutrina que sustenta qu
 e a beatíssima Virgem Maria, no primeiro instante de sua conceição, por sin
 gular graça e privilégio de Deus onipotente, em vista dos méritos de Jesus 
 Cristo, Salvador do género humano, foi preservada imune de toda mancha de p
 ecado original, essa doutrina foi revelada por Deus e, portanto, deve ser s
 ólida e constantemente crida por todos os fiéis.&rdquo;\n \nQuatro anos apó
 s a proclamação do dogma da Imaculada Conceição, a Virgem apareceu a Santa 
 Bernadette Soubirous (http://www.paroquia-almancil.pt/utilidades/vida-dos-s
 antos/icalrepeat.detail/2017/04/17/23206/-/s-bernardette-soubirous.html). P
 ara a menina que, timidamente, perguntava: "Senhora, quer ter a bondade de 
 me dizer o seu nome?", Maria respondeu: "Eu sou a Imaculada Conceição." \n
DTSTAMP:20260419T165957Z
DTSTART;TZID=Europe/Lisbon;VALUE=DATE:20211208
DTEND;TZID=Europe/Lisbon;VALUE=DATE:20211209
SEQUENCE:0
TRANSP:OPAQUE
END:VEVENT
END:VCALENDAR